Workbook

Sheet P&L
B2: Te Ardhura & Shpenzime | H2: 2017 | V2: VAT code
H3: Janar | I3: Shkurt | J3: Mars | K3: Prill | L3: Maj | M3: Qershor | N3: Korrik | O3: Gusht | P3: Shtator | Q3: Tetor | R3: Nentor | S3: Dhjetor | T3: Totali
B5: Te Ardhura
C6: Shitje e Produkteve te Veta | T6: =SUM(H6:S6) -> 0
C7: Te Ardhura nga Sherbimet | H7: =-SUMIFS(lv!D:D,lv!$B:$B,"704001") -> 0 | I7: =-SUMIFS(lv!E:E,lv!$B:$B,"704001") -> 0 | J7: =-SUMIFS(lv!F:F,lv!$B:$B,"704001") -> 0 | K7: =-SUMIFS(lv!G:G,lv!$B:$B,"704001") -> 0 | L7: =-SUMIFS(lv!H:H,lv!$B:$B,"704001") -> 0 | M7: =-SUMIFS(lv!I:I,lv!$B:$B,"704001") -> 0 | N7: =-SUMIFS(lv!J:J,lv!$B:$B,"704001") -> 0 | O7: =-SUMIFS(lv!K:K,lv!$B:$B,"704001") -> 0 | P7: =-SUMIFS(lv!L:L,lv!$B:$B,"704001") -> 0 | Q7: =-SUMIFS(lv!M:M,lv!$B:$B,"704001") -> 0 | R7: =-SUMIFS(lv!N:N,lv!$B:$B,"704001") -> 0 | S7: =-SUMIFS(lv!O:O,lv!$B:$B,"704001") -> 0 | T7: =SUM(H7:S7) -> 0
C8: Shitje e Mallrave | H8: =-SUMIFS(lv!D:D,lv!$B:$B,"705")-SUMIFS(lv!D:D,lv!$B:$B,"707") -> 16963333 | I8: =-SUMIFS(lv!E:E,lv!$B:$B,"705")-SUMIFS(lv!E:E,lv!$B:$B,"707") -> 11618427 | J8: =-SUMIFS(lv!F:F,lv!$B:$B,"705")-SUMIFS(lv!F:F,lv!$B:$B,"707") -> 17806411 | K8: =-SUMIFS(lv!G:G,lv!$B:$B,"705")-SUMIFS(lv!G:G,lv!$B:$B,"707") -> 14113840 | L8: =-SUMIFS(lv!H:H,lv!$B:$B,"705")-SUMIFS(lv!H:H,lv!$B:$B,"707") -> 42309601 | M8: =-SUMIFS(lv!I:I,lv!$B:$B,"705")-SUMIFS(lv!I:I,lv!$B:$B,"707") -> 17611595 | N8: =-SUMIFS(lv!J:J,lv!$B:$B,"705")-SUMIFS(lv!J:J,lv!$B:$B,"707") -> 11858493 | O8: =-SUMIFS(lv!K:K,lv!$B:$B,"705")-SUMIFS(lv!K:K,lv!$B:$B,"707") -> 14081430 | P8: =-SUMIFS(lv!L:L,lv!$B:$B,"705")-SUMIFS(lv!L:L,lv!$B:$B,"707") -> 16530970 | Q8: 15000000 | R8: 15000000 | S8: 15000000 | T8: =SUM(H8:S8) -> 2.078941e+08 | V8: 2
C9: Shitje e Mallrave me Shumice | R9: 10000000 | S9: 5000000 | T9: =SUM(H9:S9) -> 15000000 | V9: 2
C10: Te tjera | H10: =-SUMIFS(lv!D:D,lv!$B:$B,"758")-SUMIFS(lv!D:D,lv!$B:$B,"767")-SUMIFS(lv!D:D,lv!$B:$B,"769")-SUMIFS(lv!D:D,lv!$B:$B,"771") -> 6094.88 | I10: =-SUMIFS(lv!E:E,lv!$B:$B,"758")-SUMIFS(lv!E:E,lv!$B:$B,"767")-SUMIFS(lv!E:E,lv!$B:$B,"769")-SUMIFS(lv!E:E,lv!$B:$B,"771") -> 20018.04 | J10: =-SUMIFS(lv!F:F,lv!$B:$B,"758")-SUMIFS(lv!F:F,lv!$B:$B,"767")-SUMIFS(lv!F:F,lv!$B:$B,"769")-SUMIFS(lv!F:F,lv!$B:$B,"771") -> 5117.2 | K10: =-SUMIFS(lv!G:G,lv!$B:$B,"758")-SUMIFS(lv!G:G,lv!$B:$B,"767")-SUMIFS(lv!G:G,lv!$B:$B,"769")-SUMIFS(lv!G:G,lv!$B:$B,"771") -> 8842.23 | L10: =-SUMIFS(lv!H:H,lv!$B:$B,"758")-SUMIFS(lv!H:H,lv!$B:$B,"767")-SUMIFS(lv!H:H,lv!$B:$B,"769")-SUMIFS(lv!H:H,lv!$B:$B,"771") -> 13566.93 | M10: =-SUMIFS(lv!I:I,lv!$B:$B,"758")-SUMIFS(lv!I:I,lv!$B:$B,"767")-SUMIFS(lv!I:I,lv!$B:$B,"769")-SUMIFS(lv!I:I,lv!$B:$B,"771") -> 14034.81 | N10: =-SUMIFS(lv!J:J,lv!$B:$B,"758")-SUMIFS(lv!J:J,lv!$B:$B,"767")-SUMIFS(lv!J:J,lv!$B:$B,"769")-SUMIFS(lv!J:J,lv!$B:$B,"771") -> 11020.41 | O10: =-SUMIFS(lv!K:K,lv!$B:$B,"758")-SUMIFS(lv!K:K,lv!$B:$B,"767")-SUMIFS(lv!K:K,lv!$B:$B,"769")-SUMIFS(lv!K:K,lv!$B:$B,"771") -> 764.18 | P10: =-SUMIFS(lv!L:L,lv!$B:$B,"758")-SUMIFS(lv!L:L,lv!$B:$B,"767")-SUMIFS(lv!L:L,lv!$B:$B,"769")-SUMIFS(lv!L:L,lv!$B:$B,"771") -> 3.6 | Q10: =-SUMIFS(lv!M:M,lv!$B:$B,"758")-SUMIFS(lv!M:M,lv!$B:$B,"767")-SUMIFS(lv!M:M,lv!$B:$B,"769") -> 0 | R10: =-SUMIFS(lv!N:N,lv!$B:$B,"758")-SUMIFS(lv!N:N,lv!$B:$B,"767")-SUMIFS(lv!N:N,lv!$B:$B,"769") -> 0 | S10: =-SUMIFS(lv!O:O,lv!$B:$B,"758")-SUMIFS(lv!O:O,lv!$B:$B,"767")-SUMIFS(lv!O:O,lv!$B:$B,"769") -> 0 | T10: =SUM(H10:S10) -> 79462.28
C11: Zbritje ne Blerje | H11: =-SUMIFS(lv!D:D,lv!$B:$B,"791") -> 0 | I11: =-SUMIFS(lv!E:E,lv!$B:$B,"791") -> 0 | J11: =-SUMIFS(lv!F:F,lv!$B:$B,"791") -> 0 | K11: =-SUMIFS(lv!G:G,lv!$B:$B,"791") -> 0 | L11: =-SUMIFS(lv!H:H,lv!$B:$B,"791") -> 587.5 | M11: =-SUMIFS(lv!I:I,lv!$B:$B,"791") -> 0 | N11: =-SUMIFS(lv!J:J,lv!$B:$B,"791") -> 0 | O11: =-SUMIFS(lv!K:K,lv!$B:$B,"791") -> 0 | P11: =-SUMIFS(lv!L:L,lv!$B:$B,"791") -> 95337.69 | Q11: =-SUMIFS(lv!M:M,lv!$B:$B,"791") -> 0 | R11: =-SUMIFS(lv!N:N,lv!$B:$B,"791") -> 0 | S11: =-SUMIFS(lv!O:O,lv!$B:$B,"791") -> 0 | T11: =SUM(H11:S11) -> 95925.19
C12: Zbritje ne Shitje | H12: =-SUMIFS(lv!D:D,lv!$B:$B,"792") -> -7798738.6 | I12: =-SUMIFS(lv!E:E,lv!$B:$B,"792") -> -5212038.1 | J12: =-SUMIFS(lv!F:F,lv!$B:$B,"792") -> -10398378 | K12: =-SUMIFS(lv!G:G,lv!$B:$B,"792") -> -7430597.7 | L12: =-SUMIFS(lv!H:H,lv!$B:$B,"792") -> -19986890 | M12: =-SUMIFS(lv!I:I,lv!$B:$B,"792") -> -4778381.3 | N12: =-SUMIFS(lv!J:J,lv!$B:$B,"792") -> -2724334.8 | O12: =-SUMIFS(lv!K:K,lv!$B:$B,"792") -> -6840785.7 | P12: =-SUMIFS(lv!L:L,lv!$B:$B,"792") -> -5217996 | Q12: =-SUMIFS(lv!M:M,lv!$B:$B,"792")-Q8*30% -> -4462678.3 | R12: =-SUMIFS(lv!N:N,lv!$B:$B,"792")-R8*30% -> -4500000 | S12: =-SUMIFS(lv!O:O,lv!$B:$B,"792")-S8*30% -> -4500000 | T12: =SUM(H12:S12) -> -83850819
T13: =+SUM(H13:S13) -> 0
B14: Totali I Te Ardhurave | H14: =SUM(H6:H13) -> 9170689.5 | I14: =SUM(I6:I13) -> 6426406.7 | J14: =SUM(J6:J13) -> 7413150.4 | K14: =SUM(K6:K13) -> 6692084.3 | L14: =SUM(L6:L13) -> 22336866 | M14: =SUM(M6:M13) -> 12847248 | N14: =SUM(N6:N13) -> 9145178.4 | O14: =SUM(O6:O13) -> 7241408.3 | ... T14: =SUM(T6:T13) -> 1.3921867e+08
C16: Zbritje | G16: %
C17: Kosto e Mallrave te Shitura | H17: =-SUMIFS(lv!D:D,lv!$B:$B,"601")-SUMIFS(lv!D:D,lv!$B:$B,"6031001")-SUMIFS(lv!D:D,lv!$B:$B,"6035001")-SUMIFS(lv!D:D,lv!$B:$B,"605") -> -4799876.6 | I17: =-SUMIFS(lv!E:E,lv!$B:$B,"601")-SUMIFS(lv!E:E,lv!$B:$B,"6031001")-SUMIFS(lv!E:E,lv!$B:$B,"6035001")-SUMIFS(lv!E:E,lv!$B:$B,"605") -> -3327141.7 | J17: =-SUMIFS(lv!F:F,lv!$B:$B,"601")-SUMIFS(lv!F:F,lv!$B:$B,"6031001")-SUMIFS(lv!F:F,lv!$B:$B,"6035001")-SUMIFS(lv!F:F,lv!$B:$B,"605") -> -5310089.6 | K17: =-SUMIFS(lv!G:G,lv!$B:$B,"601")-SUMIFS(lv!G:G,lv!$B:$B,"6031001")-SUMIFS(lv!G:G,lv!$B:$B,"6035001")-SUMIFS(lv!G:G,lv!$B:$B,"605") -> -4366435.8 | L17: =-SUMIFS(lv!H:H,lv!$B:$B,"601")-SUMIFS(lv!H:H,lv!$B:$B,"6031001")-SUMIFS(lv!H:H,lv!$B:$B,"6035001")-SUMIFS(lv!H:H,lv!$B:$B,"605") -> -14312082 | M17: =-SUMIFS(lv!I:I,lv!$B:$B,"601")-SUMIFS(lv!I:I,lv!$B:$B,"6031001")-SUMIFS(lv!I:I,lv!$B:$B,"6035001")-SUMIFS(lv!I:I,lv!$B:$B,"605") -> -6863850.8 | N17: =-SUMIFS(lv!J:J,lv!$B:$B,"601")-SUMIFS(lv!J:J,lv!$B:$B,"6031001")-SUMIFS(lv!J:J,lv!$B:$B,"6035001")-SUMIFS(lv!J:J,lv!$B:$B,"605") -> -4876428.9 | O17: =-SUMIFS(lv!K:K,lv!$B:$B,"601")-SUMIFS(lv!K:K,lv!$B:$B,"6031001")-SUMIFS(lv!K:K,lv!$B:$B,"6035001")-SUMIFS(lv!K:K,lv!$B:$B,"605") -> -4299280.9 | P17: =-SUMIFS(lv!L:L,lv!$B:$B,"601")-SUMIFS(lv!L:L,lv!$B:$B,"6031001")-SUMIFS(lv!L:L,lv!$B:$B,"6035001")-SUMIFS(lv!L:L,lv!$B:$B,"605") -> -7813925.3 | Q17: =+Q8*Q18 -> -4950000 | R17: =+R8*R18 -> -4950000 | S17: =+S8*S18 -> -4950000 | T17: =SUM(H17:S17) -> -70819112
D18: Margin | H18: =+H17/H8 -> -0.28295598 | I18: =+I17/I8 -> -0.28636766 | J18: =+J17/J8 -> -0.29821223 | K18: =+K17/K8 -> -0.30937264 | L18: =+L17/L8 -> -0.33827031 | M18: =+M17/M8 -> -0.38973477 | N18: =+N17/N8 -> -0.41121827 | O18: =+O17/O8 -> -0.30531565 | P18: =+P17/P8 -> -0.47268401 | Q18: -0.33 | R18: -0.33 | S18: -0.33
C19: Kosto e Mallrave te Shitura me Zbritje 50% | H19: =+H9*H20 -> 0 | I19: =+I9*I20 -> 0 | J19: =+J9*J20 -> 0 | K19: =+K9*K20 -> 0 | L19: =+L9*L20 -> 0 | M19: =+M9*M20 -> 0 | N19: =+N9*N20 -> 0 | O19: =+O9*O20 -> 0 | ... S19: =+S9*S20 -> -4250000 | T19: =SUM(H19:S19) -> -12750000
D20: Margin | H20: -0.85 | I20: -0.85 | J20: -0.85 | K20: -0.85 | L20: -0.85 | M20: -0.85 | N20: -0.85 | O20: -0.85 | P20: -0.85 | Q20: -0.85 | R20: -0.85 | S20: -0.85
B22: Shpenzimet Operative
C24: Uje,energji elektrike,gaz | H24: =-SUMIFS(lv!D:D,lv!$B:$B,"604") -> -84949.12 | I24: =-SUMIFS(lv!E:E,lv!$B:$B,"604") -> -80234.25 | J24: =-SUMIFS(lv!F:F,lv!$B:$B,"604") -> -55984.97 | K24: =-SUMIFS(lv!G:G,lv!$B:$B,"604") -> -76575.63 | L24: =-SUMIFS(lv!H:H,lv!$B:$B,"604") -> -78365.12 | M24: =-SUMIFS(lv!I:I,lv!$B:$B,"604") -> -65144.8 | N24: =-SUMIFS(lv!J:J,lv!$B:$B,"604") -> -96647.6 | O24: =-SUMIFS(lv!K:K,lv!$B:$B,"604") -> -87704.62 | P24: =-SUMIFS(lv!L:L,lv!$B:$B,"604") -> -93522 | Q24: -100000 | R24: -100000 | S24: -100000 | T24: =SUM(H24:S24) -> -1019128.1 | V24: 2
C25: Shpenzime per Blerje te Pastokueshme | H25: =-SUMIFS(lv!D:D,lv!$B:$B,"6060001")-SUMIFS(lv!D:D,lv!$B:$B,"608") -> -1537.5 | I25: =-SUMIFS(lv!E:E,lv!$B:$B,"6060001")-SUMIFS(lv!E:E,lv!$B:$B,"608") -> -12276.42 | J25: =-SUMIFS(lv!F:F,lv!$B:$B,"6060001")-SUMIFS(lv!F:F,lv!$B:$B,"608") -> -342242.08 | K25: =-SUMIFS(lv!G:G,lv!$B:$B,"6060001")-SUMIFS(lv!G:G,lv!$B:$B,"608") -> -314138.13 | L25: =-SUMIFS(lv!H:H,lv!$B:$B,"6060001")-SUMIFS(lv!H:H,lv!$B:$B,"608") -> -6833.31 | M25: =-SUMIFS(lv!I:I,lv!$B:$B,"6060001")-SUMIFS(lv!I:I,lv!$B:$B,"608") -> -49033.142 | N25: =-SUMIFS(lv!J:J,lv!$B:$B,"6060001")-SUMIFS(lv!J:J,lv!$B:$B,"608") -> -196349.18 | O25: =-SUMIFS(lv!K:K,lv!$B:$B,"6060001")-SUMIFS(lv!K:K,lv!$B:$B,"608") -> -177665.83 | P25: =-SUMIFS(lv!L:L,lv!$B:$B,"6060001")-SUMIFS(lv!L:L,lv!$B:$B,"608") -> -15038.01 | Q25: -25000 | R25: -25000 | S25: -25000 | T25: =SUM(H25:S25) -> -1190113.6 | V25: 2
C26: Utilitete & Qira CP | H26: =-SUMIFS(lv!D:D,lv!$B:$B,"6110001")-SUMIFS(lv!D:D,lv!$B:$B,"6110009")-SUMIFS(lv!D:D,lv!$B:$B,"6110010") -> -465233.62 | I26: =-SUMIFS(lv!E:E,lv!$B:$B,"6110001")-SUMIFS(lv!E:E,lv!$B:$B,"6110009")-SUMIFS(lv!E:E,lv!$B:$B,"6110010") -> -501355.75 | J26: =-SUMIFS(lv!F:F,lv!$B:$B,"6110001")-SUMIFS(lv!F:F,lv!$B:$B,"6110009")-SUMIFS(lv!F:F,lv!$B:$B,"6110010") -> -474993.75 | K26: =-SUMIFS(lv!G:G,lv!$B:$B,"6110001")-SUMIFS(lv!G:G,lv!$B:$B,"6110009")-SUMIFS(lv!G:G,lv!$B:$B,"6110010") -> -563534.89 | L26: =-SUMIFS(lv!H:H,lv!$B:$B,"6110001")-SUMIFS(lv!H:H,lv!$B:$B,"6110009")-SUMIFS(lv!H:H,lv!$B:$B,"6110010") -> -444014.5 | M26: =-SUMIFS(lv!I:I,lv!$B:$B,"6110001")-SUMIFS(lv!I:I,lv!$B:$B,"6110009")-SUMIFS(lv!I:I,lv!$B:$B,"6110010") -> -463385.5 | N26: =-SUMIFS(lv!J:J,lv!$B:$B,"6110001")-SUMIFS(lv!J:J,lv!$B:$B,"6110009")-SUMIFS(lv!J:J,lv!$B:$B,"6110010") -> -469162.57 | O26: =-SUMIFS(lv!K:K,lv!$B:$B,"6110001")-SUMIFS(lv!K:K,lv!$B:$B,"6110009")-SUMIFS(lv!K:K,lv!$B:$B,"6110010") -> -451224.5 | P26: =-SUMIFS(lv!L:L,lv!$B:$B,"6110001")-SUMIFS(lv!L:L,lv!$B:$B,"6110009")-SUMIFS(lv!L:L,lv!$B:$B,"6110010") -> -456967.25 | Q26: =-3088*135 -> -416880 | R26: =-3088*135 -> -416880 | S26: =-3088*135 -> -416880 | T26: =SUM(H26:S26) -> -5540512.3 | V26: 2
C27: Utilitete RING | H27: =-SUMIFS(lv!D:D,lv!$B:$B,"6110004") -> -115037.06 | I27: =-SUMIFS(lv!E:E,lv!$B:$B,"6110004") -> -115911.71 | J27: =-SUMIFS(lv!F:F,lv!$B:$B,"6110004") -> -115485.76 | K27: =-SUMIFS(lv!G:G,lv!$B:$B,"6110004") -> 0 | L27: =-SUMIFS(lv!H:H,lv!$B:$B,"6110004") -> -114662.07 | M27: =-SUMIFS(lv!I:I,lv!$B:$B,"6110004") -> -113889.34 | N27: =-SUMIFS(lv!J:J,lv!$B:$B,"6110004") -> -112591.45 | O27: =-SUMIFS(lv!K:K,lv!$B:$B,"6110004") -> -112735.81 | P27: =-SUMIFS(lv!L:L,lv!$B:$B,"6110004") -> -113362.86 | Q27: =-850*135 -> -114750 | R27: =-850*135 -> -114750 | S27: =-850*135 -> -114750 | T27: =SUM(H27:S27) -> -1257926.1
C28: Utilitete TEG | H28: =-SUMIFS(lv!D:D,lv!$B:$B,"6110011") -> -135580 | I28: =-SUMIFS(lv!E:E,lv!$B:$B,"6110011") -> -136500 | J28: =-SUMIFS(lv!F:F,lv!$B:$B,"6110011") -> -135070 | K28: =-SUMIFS(lv!G:G,lv!$B:$B,"6110011") -> -135860 | L28: =-SUMIFS(lv!H:H,lv!$B:$B,"6110011") -> -134880 | M28: =-SUMIFS(lv!I:I,lv!$B:$B,"6110011") -> -134120 | N28: =-SUMIFS(lv!J:J,lv!$B:$B,"6110011") -> -132620 | O28: =-SUMIFS(lv!K:K,lv!$B:$B,"6110011") -> -132760 | P28: =-SUMIFS(lv!L:L,lv!$B:$B,"6110011") -> -133440 | Q28: =-1000*135 -> -135000 | R28: =-1000*135 -> -135000 | S28: =-1000*135 -> -135000 | T28: =SUM(H28:S28) -> -1615830
C29: Nentrajtime | H29: =-SUMIFS(lv!D:D,lv!$B:$B,"6110002")-SUMIFS(lv!D:D,lv!$B:$B,"6110003")-SUMIFS(lv!D:D,lv!$B:$B,"6110006")-SUMIFS(lv!D:D,lv!$B:$B,"6110007")-SUMIFS(lv!D:D,lv!$B:$B,"6110012")-SUMIFS(lv!D:D,lv!$B:$B,"6110013") -> 0 | I29: =-SUMIFS(lv!E:E,lv!$B:$B,"6110002")-SUMIFS(lv!E:E,lv!$B:$B,"6110003")-SUMIFS(lv!E:E,lv!$B:$B,"6110006")-SUMIFS(lv!E:E,lv!$B:$B,"6110007")-SUMIFS(lv!E:E,lv!$B:$B,"6110012")-SUMIFS(lv!E:E,lv!$B:$B,"6110013") -> -14500 | J29: =-SUMIFS(lv!F:F,lv!$B:$B,"6110002")-SUMIFS(lv!F:F,lv!$B:$B,"6110003")-SUMIFS(lv!F:F,lv!$B:$B,"6110006")-SUMIFS(lv!F:F,lv!$B:$B,"6110007")-SUMIFS(lv!F:F,lv!$B:$B,"6110012")-SUMIFS(lv!F:F,lv!$B:$B,"6110013") -> -33500 | K29: =-SUMIFS(lv!G:G,lv!$B:$B,"6110002")-SUMIFS(lv!G:G,lv!$B:$B,"6110003")-SUMIFS(lv!G:G,lv!$B:$B,"6110006")-SUMIFS(lv!G:G,lv!$B:$B,"6110007")-SUMIFS(lv!G:G,lv!$B:$B,"6110012")-SUMIFS(lv!G:G,lv!$B:$B,"6110013") -> -170000 | L29: =-SUMIFS(lv!H:H,lv!$B:$B,"6110002")-SUMIFS(lv!H:H,lv!$B:$B,"6110003")-SUMIFS(lv!H:H,lv!$B:$B,"6110006")-SUMIFS(lv!H:H,lv!$B:$B,"6110007")-SUMIFS(lv!H:H,lv!$B:$B,"6110012")-SUMIFS(lv!H:H,lv!$B:$B,"6110013") -> -53500 | M29: =-SUMIFS(lv!I:I,lv!$B:$B,"6110002")-SUMIFS(lv!I:I,lv!$B:$B,"6110003")-SUMIFS(lv!I:I,lv!$B:$B,"6110006")-SUMIFS(lv!I:I,lv!$B:$B,"6110007")-SUMIFS(lv!I:I,lv!$B:$B,"6110012")-SUMIFS(lv!I:I,lv!$B:$B,"6110013") -> -47700 | N29: =-SUMIFS(lv!J:J,lv!$B:$B,"6110002")-SUMIFS(lv!J:J,lv!$B:$B,"6110003")-SUMIFS(lv!J:J,lv!$B:$B,"6110006")-SUMIFS(lv!J:J,lv!$B:$B,"6110007")-SUMIFS(lv!J:J,lv!$B:$B,"6110012")-SUMIFS(lv!J:J,lv!$B:$B,"6110013") -> -5000 | O29: =-SUMIFS(lv!K:K,lv!$B:$B,"6110002")-SUMIFS(lv!K:K,lv!$B:$B,"6110003")-SUMIFS(lv!K:K,lv!$B:$B,"6110006")-SUMIFS(lv!K:K,lv!$B:$B,"6110007")-SUMIFS(lv!K:K,lv!$B:$B,"6110012")-SUMIFS(lv!K:K,lv!$B:$B,"6110013") -> 0 | P29: =-SUMIFS(lv!L:L,lv!$B:$B,"6110002")-SUMIFS(lv!L:L,lv!$B:$B,"6110003")-SUMIFS(lv!L:L,lv!$B:$B,"6110006")-SUMIFS(lv!L:L,lv!$B:$B,"6110007")-SUMIFS(lv!L:L,lv!$B:$B,"6110012")-SUMIFS(lv!L:L,lv!$B:$B,"6110013") -> -21500 | Q29: -20000 | R29: -20000 | S29: -20000 | T29: =SUM(H29:S29) -> -405700 | V29: 2
C30: Shpenzime Qiraje CP | Q30: =-333*135 -> -44955 | R30: =-333*135 -> -44955 | S30: =-333*135 -> -44955 | T30: =SUM(H30:S30) -> -134865 | V30: 2
C31: Shpenzime Qiraje RING | H31: =-SUMIFS(lv!D:D,lv!$B:$B,"613") -> -1038793.9 | I31: =-SUMIFS(lv!E:E,lv!$B:$B,"613") -> -1113783.9 | J31: =-SUMIFS(lv!F:F,lv!$B:$B,"613") -> -1038088.3 | K31: =-SUMIFS(lv!G:G,lv!$B:$B,"613") -> -1042112.8 | L31: =-SUMIFS(lv!H:H,lv!$B:$B,"613") -> -1034318.6 | M31: =-SUMIFS(lv!I:I,lv!$B:$B,"613") -> -1028155.1 | N31: =-SUMIFS(lv!J:J,lv!$B:$B,"613") -> -1016575.3 | O31: =-SUMIFS(lv!K:K,lv!$B:$B,"613") -> -1017520.1 | P31: =-SUMIFS(lv!L:L,lv!$B:$B,"613") -> -1022674.2 | Q31: =-2832*135 -> -382320 | R31: =-2832*135 -> -382320 | S31: =-2832*135 -> -382320 | T31: =SUM(H31:S31) -> -10498982
C32: Shpenzime Qiraje TEG | Q32: =-4500*135 -> -607500 | R32: =-4500*135 -> -607500 | S32: =-4500*135 -> -607500 | T32: =SUM(H32:S32) -> -1822500
C33: Shpenzime Mirembajtje | H33: =-SUMIFS(lv!D:D,lv!$B:$B,"615") -> 0 | I33: =-SUMIFS(lv!E:E,lv!$B:$B,"615") -> 0 | J33: =-SUMIFS(lv!F:F,lv!$B:$B,"615") -> 0 | K33: =-SUMIFS(lv!G:G,lv!$B:$B,"615") -> -123250 | L33: =-SUMIFS(lv!H:H,lv!$B:$B,"615") -> 0 | M33: =-SUMIFS(lv!I:I,lv!$B:$B,"615") -> 0 | N33: =-SUMIFS(lv!J:J,lv!$B:$B,"615") -> 0 | O33: =-SUMIFS(lv!K:K,lv!$B:$B,"615") -> 0 | P33: =-SUMIFS(lv!L:L,lv!$B:$B,"615") -> 0 | T33: =SUM(H33:S33) -> -123250
C34: Shpenzime Sigurimi | H34: =-SUMIFS(lv!D:D,lv!$B:$B,"616") -> 0 | I34: =-SUMIFS(lv!E:E,lv!$B:$B,"616") -> -18705 | J34: =-SUMIFS(lv!F:F,lv!$B:$B,"616") -> 0 | K34: =-SUMIFS(lv!G:G,lv!$B:$B,"616") -> -11380 | L34: =-SUMIFS(lv!H:H,lv!$B:$B,"616") -> 0 | M34: =-SUMIFS(lv!I:I,lv!$B:$B,"616") -> 0 | N34: =-SUMIFS(lv!J:J,lv!$B:$B,"616") -> 0 | O34: =-SUMIFS(lv!K:K,lv!$B:$B,"616") -> 0 | P34: =-SUMIFS(lv!L:L,lv!$B:$B,"616") -> -127759.5 | T34: =SUM(H34:S34) -> -157844.5
C35: Sherbime te Tjera | H35: =-SUMIFS(lv!D:D,lv!$B:$B,"618") -> -175250 | I35: =-SUMIFS(lv!E:E,lv!$B:$B,"618") -> 0 | J35: =-SUMIFS(lv!F:F,lv!$B:$B,"618") -> -9247.5 | K35: =-SUMIFS(lv!G:G,lv!$B:$B,"618") -> -39400 | L35: =-SUMIFS(lv!H:H,lv!$B:$B,"618") -> -21500 | M35: =-SUMIFS(lv!I:I,lv!$B:$B,"618") -> -2400 | N35: =-SUMIFS(lv!J:J,lv!$B:$B,"618") -> -38780 | O35: =-SUMIFS(lv!K:K,lv!$B:$B,"618") -> -39300 | P35: =-SUMIFS(lv!L:L,lv!$B:$B,"618") -> -10800 | Q35: -10000 | R35: -10000 | S35: -10000 | T35: =SUM(H35:S35) -> -366677.5 | V35: 2
C36: Shpenzime Marketingu CP | H36: =-SUMIFS(lv!D:D,lv!$B:$B,"6240011")-SUMIFS(lv!D:D,lv!$B:$B,"62400011") -> 0 | I36: =-SUMIFS(lv!E:E,lv!$B:$B,"6240011")-SUMIFS(lv!E:E,lv!$B:$B,"62400011") -> 0 | J36: =-SUMIFS(lv!F:F,lv!$B:$B,"6240011")-SUMIFS(lv!F:F,lv!$B:$B,"62400011") -> 0 | K36: =-SUMIFS(lv!G:G,lv!$B:$B,"6240011")-SUMIFS(lv!G:G,lv!$B:$B,"62400011") -> 0 | L36: =-SUMIFS(lv!H:H,lv!$B:$B,"6240011")-SUMIFS(lv!H:H,lv!$B:$B,"62400011") -> 0 | M36: =-SUMIFS(lv!I:I,lv!$B:$B,"6240011")-SUMIFS(lv!I:I,lv!$B:$B,"62400011") -> 0 | N36: =-SUMIFS(lv!J:J,lv!$B:$B,"6240011")-SUMIFS(lv!J:J,lv!$B:$B,"62400011") -> 0 | O36: =-SUMIFS(lv!K:K,lv!$B:$B,"6240011")-SUMIFS(lv!K:K,lv!$B:$B,"62400011") -> 0 | P36: =-SUMIFS(lv!L:L,lv!$B:$B,"6240011")-SUMIFS(lv!L:L,lv!$B:$B,"62400011") -> 0 | Q36: -8200 | R36: -8200 | S36: -8200 | T36: =SUM(H36:S36) -> -24600
C37: Shpenzime Marketingu TEG | H37: =-SUMIFS(lv!D:D,lv!$B:$B,"6240002")-SUMIFS(lv!D:D,lv!$B:$B,"6240003") -> -171310.2 | I37: =-SUMIFS(lv!E:E,lv!$B:$B,"6240002")-SUMIFS(lv!E:E,lv!$B:$B,"6240003") -> -90090 | J37: =-SUMIFS(lv!F:F,lv!$B:$B,"6240002")-SUMIFS(lv!F:F,lv!$B:$B,"6240003") -> -170388 | K37: =-SUMIFS(lv!G:G,lv!$B:$B,"6240002")-SUMIFS(lv!G:G,lv!$B:$B,"6240003") -> -89683.8 | L37: =-SUMIFS(lv!H:H,lv!$B:$B,"6240002")-SUMIFS(lv!H:H,lv!$B:$B,"6240003") -> -75540 | M37: =-SUMIFS(lv!I:I,lv!$B:$B,"6240002")-SUMIFS(lv!I:I,lv!$B:$B,"6240003") -> -88519.2 | N37: =-SUMIFS(lv!J:J,lv!$B:$B,"6240002")-SUMIFS(lv!J:J,lv!$B:$B,"6240003") -> -87528 | O37: =-SUMIFS(lv!K:K,lv!$B:$B,"6240002")-SUMIFS(lv!K:K,lv!$B:$B,"6240003") -> -87621.6 | P37: =-SUMIFS(lv!L:L,lv!$B:$B,"6240002")-SUMIFS(lv!L:L,lv!$B:$B,"6240003") -> -88074 | Q37: =-500*135 -> -67500 | R37: =-500*135 -> -67500 | S37: =-500*135 -> -67500 | T37: =SUM(H37:S37) -> -1151254.8
C38: Shpenzime Marketingu TV | H38: =-SUMIFS(lv!D:D,lv!$B:$B,"62400012") -> 0 | I38: =-SUMIFS(lv!E:E,lv!$B:$B,"62400012") -> 0 | J38: =-SUMIFS(lv!F:F,lv!$B:$B,"62400012") -> 0 | K38: =-SUMIFS(lv!G:G,lv!$B:$B,"62400012") -> 0 | L38: =-SUMIFS(lv!H:H,lv!$B:$B,"62400012") -> 0 | M38: =-SUMIFS(lv!I:I,lv!$B:$B,"62400012") -> 0 | N38: =-SUMIFS(lv!J:J,lv!$B:$B,"62400012") -> 0 | O38: =-SUMIFS(lv!K:K,lv!$B:$B,"62400012") -> 0 | P38: =-SUMIFS(lv!L:L,lv!$B:$B,"62400012") -> 0 | Q38: =-SUMIFS(lv!M:M,lv!$B:$B,"62400012")-SUMIFS(lv!M:M,lv!$B:$B,"6240002") -> 0 | R38: =-SUMIFS(lv!N:N,lv!$B:$B,"62400012")-SUMIFS(lv!N:N,lv!$B:$B,"6240002") -> 0 | S38: =-SUMIFS(lv!O:O,lv!$B:$B,"62400012")-SUMIFS(lv!O:O,lv!$B:$B,"6240002") -> 0 | T38: =SUM(H38:S38) -> 0
C39: Shpenzime Udhetimi & Akomodimi | T39: =SUM(H39:S39) -> 0
C40: Shpenzime Komunikimi dhe Postare | H40: =-SUMIFS(lv!D:D,lv!$B:$B,"626")-SUMIFS(lv!D:D,lv!$B:$B,"626001")-SUMIFS(lv!D:D,lv!$B:$B,"626003") -> -15559.56 | I40: =-SUMIFS(lv!E:E,lv!$B:$B,"626")-SUMIFS(lv!E:E,lv!$B:$B,"626001")-SUMIFS(lv!E:E,lv!$B:$B,"626003") -> -23105.085 | J40: =-SUMIFS(lv!F:F,lv!$B:$B,"626")-SUMIFS(lv!F:F,lv!$B:$B,"626001")-SUMIFS(lv!F:F,lv!$B:$B,"626003") -> -23564.29 | K40: =-SUMIFS(lv!G:G,lv!$B:$B,"626")-SUMIFS(lv!G:G,lv!$B:$B,"626001")-SUMIFS(lv!G:G,lv!$B:$B,"626003") -> -23522.43 | L40: =-SUMIFS(lv!H:H,lv!$B:$B,"626")-SUMIFS(lv!H:H,lv!$B:$B,"626001")-SUMIFS(lv!H:H,lv!$B:$B,"626003") -> -30032.31 | M40: =-SUMIFS(lv!I:I,lv!$B:$B,"626")-SUMIFS(lv!I:I,lv!$B:$B,"626001")-SUMIFS(lv!I:I,lv!$B:$B,"626003") -> -52078.57 | N40: =-SUMIFS(lv!J:J,lv!$B:$B,"626")-SUMIFS(lv!J:J,lv!$B:$B,"626001")-SUMIFS(lv!J:J,lv!$B:$B,"626003") -> -47745.38 | O40: =-SUMIFS(lv!K:K,lv!$B:$B,"626")-SUMIFS(lv!K:K,lv!$B:$B,"626001")-SUMIFS(lv!K:K,lv!$B:$B,"626003") -> -45265.52 | P40: =-SUMIFS(lv!L:L,lv!$B:$B,"626")-SUMIFS(lv!L:L,lv!$B:$B,"626001")-SUMIFS(lv!L:L,lv!$B:$B,"626003") -> -44988.36 | Q40: -28000 | R40: -28000 | S40: -28000 | T40: =SUM(H40:S40) -> -389861.51 | V40: 2
C41: Shpenzime Transporti | H41: =-SUMIFS(lv!D:D,lv!$B:$B,"6271")-SUMIFS(lv!D:D,lv!$B:$B,"6276") -> -2700 | I41: =-SUMIFS(lv!E:E,lv!$B:$B,"6271")-SUMIFS(lv!E:E,lv!$B:$B,"6276") -> -56678.24 | J41: =-SUMIFS(lv!F:F,lv!$B:$B,"6271")-SUMIFS(lv!F:F,lv!$B:$B,"6276") -> -110685.22 | K41: =-SUMIFS(lv!G:G,lv!$B:$B,"6271")-SUMIFS(lv!G:G,lv!$B:$B,"6276") -> -53253.5 | L41: =-SUMIFS(lv!H:H,lv!$B:$B,"6271")-SUMIFS(lv!H:H,lv!$B:$B,"6276") -> -7500 | M41: =-SUMIFS(lv!I:I,lv!$B:$B,"6271")-SUMIFS(lv!I:I,lv!$B:$B,"6276") -> -49944.59 | N41: =-SUMIFS(lv!J:J,lv!$B:$B,"6271")-SUMIFS(lv!J:J,lv!$B:$B,"6276") -> -27165.34 | O41: =-SUMIFS(lv!K:K,lv!$B:$B,"6271")-SUMIFS(lv!K:K,lv!$B:$B,"6276") -> -7500 | P41: =-SUMIFS(lv!L:L,lv!$B:$B,"6271")-SUMIFS(lv!L:L,lv!$B:$B,"6276") -> -106708.6 | Q41: -50000 | R41: -50000 | S41: -50000 | T41: =SUM(H41:S41) -> -572135.49 | V41: 2
C42: Shpenzime bankare | H42: =-SUMIFS(lv!D:D,lv!$B:$B,"628") -> -105647.57 | I42: =-SUMIFS(lv!E:E,lv!$B:$B,"628") -> -74465.74 | J42: =-SUMIFS(lv!F:F,lv!$B:$B,"628") -> -60293.66 | K42: =-SUMIFS(lv!G:G,lv!$B:$B,"628") -> -69545.03 | L42: =-SUMIFS(lv!H:H,lv!$B:$B,"628") -> -64178.86 | M42: =-SUMIFS(lv!I:I,lv!$B:$B,"628") -> -76107.74 | N42: =-SUMIFS(lv!J:J,lv!$B:$B,"628") -> -54569.53 | O42: =-SUMIFS(lv!K:K,lv!$B:$B,"628") -> -82033.57 | P42: =-SUMIFS(lv!L:L,lv!$B:$B,"628") -> -61612.62 | Q42: -75000 | R42: -75000 | S42: -75000 | T42: =SUM(H42:S42) -> -873454.32
C43: Akcize | T43: =SUM(H43:S43) -> 0
C44: Takse doganore | H44: =-SUMIFS(lv!D:D,lv!$B:$B,"6320001") -> 0 | I44: =-SUMIFS(lv!E:E,lv!$B:$B,"6320001") -> -41542.8 | J44: =-SUMIFS(lv!F:F,lv!$B:$B,"6320001") -> -10187.55 | K44: =-SUMIFS(lv!G:G,lv!$B:$B,"6320001") -> -2995 | L44: =-SUMIFS(lv!H:H,lv!$B:$B,"6320001") -> 0 | M44: =-SUMIFS(lv!I:I,lv!$B:$B,"6320001") -> 0 | N44: =-SUMIFS(lv!J:J,lv!$B:$B,"6320001") -> 0 | O44: =-SUMIFS(lv!K:K,lv!$B:$B,"6320001") -> 0 | P44: =-SUMIFS(lv!L:L,lv!$B:$B,"6320001") -> -42877.8 | T44: =SUM(H44:S44) -> -97603.15
C45: Taksa e tarifa vendore | H45: =-SUMIFS(lv!D:D,lv!$B:$B,"634") -> 0 | I45: =-SUMIFS(lv!E:E,lv!$B:$B,"634") -> 0 | J45: =-SUMIFS(lv!F:F,lv!$B:$B,"634") -> -90000 | K45: =-SUMIFS(lv!G:G,lv!$B:$B,"634") -> 0 | L45: =-SUMIFS(lv!H:H,lv!$B:$B,"634") -> 0 | M45: =-SUMIFS(lv!I:I,lv!$B:$B,"634") -> 0 | N45: =-SUMIFS(lv!J:J,lv!$B:$B,"634") -> 0 | O45: =-SUMIFS(lv!K:K,lv!$B:$B,"634") -> 0 | P45: =-SUMIFS(lv!L:L,lv!$B:$B,"634") -> 0 | T45: =SUM(H45:S45) -> -90000
...

Sheet CashFlow
B2: Cash Flow Statement
C4: For the Year Ending | E4: 42735
C5: Cash at Beginning of Period | E5: 426617.32 | F5: =+E41 -> 7626365.1 | G5: =+F41 -> 1344848.2 | H5: =+G41 -> 35095.447 | I5: =+H41 -> 372130.39 | J5: =+I41 -> 22941064 | K5: =+J41 -> 27635969 | L5: =+K41 -> 24069204 | M5: =+L41 -> 18414268 | ... P5: =+O41 -> 4678976.4
B7: Operations | E7: 42736 | F7: 42767 | G7: 42795 | H7: 42826 | I7: 42856 | J7: 42887 | K7: 42917 | L7: 42948 | M7: 42979 | N7: 43009 | O7: 43040 | P7: 43070
B8: Cash receipts from customers | E8: =+'P&L'!H14*1.2 -> 11004827 | F8: =+'P&L'!I14*1.2 -> 7711688 | G8: =+'P&L'!J14*1.2 -> 8895780.5 | H8: =+'P&L'!K14*1.2 -> 8030501.1 | I8: =+'P&L'!L14*1.2 -> 26804239 | J8: =+'P&L'!M14*1.2 -> 15416698 | K8: =+'P&L'!N14*1.2 -> 10974214 | L8: =+'P&L'!O14*1.2 -> 8689690 | ... P8: =+'P&L'!S14*1.2 -> 18600000
B9: Cash paid for
C10: Inventory purchases | E10: =-Inventories!E9*1.2 -> 0 | F10: =-Inventories!F9*1.2 -> -12110113 | G10: =-Inventories!G9*1.2 -> -13214226 | H10: =-Inventories!H9*1.2 -> -16098676 | I10: =-Inventories!I9*1.2 -> -205488 | J10: =-Inventories!J9*1.2 -> -6745064.2 | K10: =-Inventories!K9*1.2 -> -385168.65 | L10: =-Inventories!L9*1.2 -> -234435.6 | ... P10: =-Inventories!P9*1.2 -> -9000000
C11: General operating and administrative expenses | E11: =+'P&L'!H56-'P&L'!H47-'P&L'!H48-'P&L'!H53 -> -2370172.6 | F11: =+'P&L'!I56-'P&L'!I47-'P&L'!I48-'P&L'!I53 -> -2433822.8 | G11: =+'P&L'!J56-'P&L'!J47-'P&L'!J48-'P&L'!J53 -> -2775359.5 | H11: =+'P&L'!K56-'P&L'!K47-'P&L'!K48-'P&L'!K53 -> -2788734.7 | I11: =+'P&L'!L56-'P&L'!L47-'P&L'!L48-'P&L'!L53 -> -2233239.8 | J11: =+'P&L'!M56-'P&L'!M47-'P&L'!M48-'P&L'!M53 -> -2222599 | K11: =+'P&L'!N56-'P&L'!N47-'P&L'!N48-'P&L'!N53 -> -2367992.2 | L11: =+'P&L'!O56-'P&L'!O47-'P&L'!O48-'P&L'!O53 -> -2299550.1 | ... P11: =+'P&L'!S56-'P&L'!S47-'P&L'!S48-'P&L'!S53 -> -2162105
C12: Wage expenses | E12: =+'P&L'!H47+'P&L'!H48 -> -704618 | F12: =+'P&L'!I47+'P&L'!I48 -> -718980 | G12: =+'P&L'!J47+'P&L'!J48 -> -985659 | H12: =+'P&L'!K47+'P&L'!K48 -> -985659 | I12: =+'P&L'!L47+'P&L'!L48 -> -976181 | J12: =+'P&L'!M47+'P&L'!M48 -> -933734 | K12: =+'P&L'!N47+'P&L'!N48 -> -967422 | L12: =+'P&L'!O47+'P&L'!O48 -> -990244 | ... P12: =+'P&L'!S47+'P&L'!S48 -> -991950
C13: Interest
C14: Income taxes | E14: -174734 | F14: -174734 | G14: -174734 | H14: -264841 | I14: -264841 | J14: -264841 | K14: -264841 | L14: -264841 | M14: -264841 | N14: -264841 | O14: -264841 | P14: -264841
B15: Net Cash Flow from Operations | E15: =SUM(E8:E14) -> 7755302.7 | F15: =SUM(F8:F14) -> -7725961.9 | G15: =SUM(G8:G14) -> -8254197.8 | H15: =SUM(H8:H14) -> -12107410 | I15: =SUM(I8:I14) -> 23124489 | J15: =SUM(J8:J14) -> 5250459.5 | K15: =SUM(K8:K14) -> 6988790.2 | L15: =SUM(L8:L14) -> 4900619.2 | ... P15: =SUM(P8:P14) -> 6181104
A17: [42] | B17: Investing Activities
B18: Cash receipts from
C19: Sale of property and equipment | E19: 0.001 | R19: 2
C20: Collection of principal on loans
C21: Sale of investment securities | E21: 0.001
B22: Cash paid for
C23: Purchase of property and equipment | R23: 2
C24: Making loans to other entities
C25: Purchase of investment securities
B26: Net Cash Flow from Investing Activities | E26: =SUM(E18:E25) -> 0.002 | F26: =SUM(F18:F25) -> 0 | G26: =SUM(G18:G25) -> 0 | H26: =SUM(H18:H25) -> 0 | I26: =SUM(I18:I25) -> 0 | J26: =SUM(J18:J25) -> 0 | K26: =SUM(K18:K25) -> 0 | L26: =SUM(L18:L25) -> 0 | ... P26: =SUM(P18:P25) -> 0
B27: [42]
B28: Financing Activities
B29: Cash receipts from
C30: Issuance of stock | E30: 0.001
C31: Clients
C32: Borrowing | F32: 2000000 | G32: 7500000 | H32: 13000000
B33: Cash paid for
C34: Suppliers | E34: -0.001
C35: Repayment of loans | E35: -555555 | F35: -555555 | G35: -555555 | H35: -555555 | I35: -555555 | J35: -555555 | K35: -555555 | L35: -555555 | M35: -555555 | N35: -555555 | O35: -555555 | P35: -555555
C36: Dividends | K36: -10000000 | L36: -10000000 | M36: -10000000 | O36: -5000000 | P36: -6000000
B37: Net Cash Flow from Financing Activities | E37: =SUM(E29:E36) -> -555555 | F37: =SUM(F29:F36) -> 1444445 | G37: =SUM(G29:G36) -> 6944445 | H37: =SUM(H29:H36) -> 12444445 | I37: =SUM(I29:I36) -> -555555 | J37: =SUM(J29:J36) -> -555555 | K37: =SUM(K29:K36) -> -10555555 | L37: =SUM(L29:L36) -> -10555555 | ... P37: =SUM(P29:P36) -> -6555555
B39: Net Increase in Cash | E39: =E15+E26+E37 -> 7199747.7 | F39: =F15+F26+F37 -> -6281516.9 | G39: =G15+G26+G37 -> -1309752.8 | H39: =H15+H26+H37 -> 337034.95 | I39: =I15+I26+I37 -> 22568934 | J39: =J15+J26+J37 -> 4694904.5 | K39: =K15+K26+K37 -> -3566764.8 | L39: =L15+L26+L37 -> -5654935.8 | ... P39: =P15+P26+P37 -> -374451
C41: Cash at End of Period | E41: =E5+E39 -> 7626365.1 | F41: =F5+F39 -> 1344848.2 | G41: =G5+G39 -> 35095.447 | H41: =H5+H39 -> 372130.39 | I41: =I5+I39 -> 22941064 | J41: =J5+J39 -> 27635969 | K41: =K5+K39 -> 24069204 | L41: =L5+L39 -> 18414268 | ... P41: =P5+P39 -> 4304525.4
B42: {42}
B43: (Financim) / Terheqje | E43: =+IF(E41<0,E41,"NO") -> NO | F43: =+IF(F41<0,F41,"NO") -> NO | G43: =+IF(G41<0,G41,"NO") -> NO | H43: =+IF(H41<0,H41,"NO") -> NO | I43: =+IF(I41<0,I41,"NO") -> NO | J43: =+IF(J41<0,J41,"NO") -> NO | K43: =+IF(K41<0,K41,"NO") -> NO | L43: =+IF(L41<0,L41,"NO") -> NO | ... O43: =+IF(O41<0,O41,"NO") -> NO | P43: =+P41 -> 4304525.4
C46: Ortaket | D46: BoP | E46: -18791873
E47: =-E32-E36 -> 0 | F47: =-F32-F36 -> -2000000 | G47: =-G32-G36 -> -7500000 | H47: =-H32-H36 -> -13000000 | I47: =-I32-I36 -> 0 | J47: =-J32-J36 -> 0 | K47: =-K32-K36 -> 10000000 | L47: =-L32-L36 -> 10000000 | ... P47: =-P32-P36 -> 6000000
D48: EoP | P48: =+E46+SUM(E47:P47) -> -291873
...

Sheet Inventories
B2: Inventories
B3: In LEK | R3: VAT code
C4: For the Year Ending | E4: 42735
C5: Inventories at Beginning of Period | E5: 53773300 | F5: =+E13 -> 48973423 | G5: =+F13 -> 55738042 | H5: =+G13 -> 61439808 | I5: =+H13 -> 70488936 | J5: =+I13 -> 56348094 | K5: =+J13 -> 55105130 | L5: =+K13 -> 50549675 | M5: =+L13 -> 46445757 | ... P5: =+O13 -> 51479691
B7: Inventories | E7: 42736 | F7: 42767 | G7: 42795 | H7: 42826 | I7: 42856 | J7: 42887 | K7: 42917 | L7: 42948 | M7: 42979 | N7: 43009 | O7: 43040 | P7: 43070
C8: Beginning inventory
C9: Purchases | E9: =+SUMIFS(lv!D:D,lv!$B:$B,"601")+SUMIFS(lv!D:D,lv!$B:$B,"605") -> 0 | F9: =+SUMIFS(lv!E:E,lv!$B:$B,"601")+SUMIFS(lv!E:E,lv!$B:$B,"605") -> 10091761 | G9: =+SUMIFS(lv!F:F,lv!$B:$B,"601")+SUMIFS(lv!F:F,lv!$B:$B,"605") -> 11011855 | H9: =+SUMIFS(lv!G:G,lv!$B:$B,"601")+SUMIFS(lv!G:G,lv!$B:$B,"605") -> 13415564 | I9: =+SUMIFS(lv!H:H,lv!$B:$B,"601")+SUMIFS(lv!H:H,lv!$B:$B,"605") -> 171240 | J9: =+SUMIFS(lv!I:I,lv!$B:$B,"601")+SUMIFS(lv!I:I,lv!$B:$B,"605") -> 5620886.8 | K9: =+SUMIFS(lv!J:J,lv!$B:$B,"601")+SUMIFS(lv!J:J,lv!$B:$B,"605") -> 320973.87 | L9: =+SUMIFS(lv!K:K,lv!$B:$B,"601")+SUMIFS(lv!K:K,lv!$B:$B,"605") -> 195363 | M9: =+SUMIFS(lv!L:L,lv!$B:$B,"601")+SUMIFS(lv!L:L,lv!$B:$B,"605") -> 11247860 | N9: 10000000 | O9: 10000000 | P9: 7500000 | R9: 2
C10: Freight
C11: Direct labor | E11: =+'P&L'!H17+'P&L'!H19 -> -4799876.6 | F11: =+'P&L'!I17+'P&L'!I19 -> -3327141.7 | G11: =+'P&L'!J17+'P&L'!J19 -> -5310089.6 | H11: =+'P&L'!K17+'P&L'!K19 -> -4366435.8 | I11: =+'P&L'!L17+'P&L'!L19 -> -14312082 | J11: =+'P&L'!M17+'P&L'!M19 -> -6863850.8 | K11: =+'P&L'!N17+'P&L'!N19 -> -4876428.9 | L11: =+'P&L'!O17+'P&L'!O19 -> -4299280.9 | ... P11: =+'P&L'!S17+'P&L'!S19 -> -9200000
C12: Indirect expenses
B13: Inventories at End of Period | E13: =+E5+SUM(E8:E12) -> 48973423 | F13: =+F5+SUM(F8:F12) -> 55738042 | G13: =+G5+SUM(G8:G12) -> 61439808 | H13: =+H5+SUM(H8:H12) -> 70488936 | I13: =+I5+SUM(I8:I12) -> 56348094 | J13: =+J5+SUM(J8:J12) -> 55105130 | K13: =+K5+SUM(K8:K12) -> 50549675 | L13: =+L5+SUM(L8:L12) -> 46445757 | ... P13: =+P5+SUM(P8:P12) -> 49779691
B19: In EUR
C20: For the Year Ending | E20: =+E4 -> 42735
C21: Inventories at Beginning of Period | E21: =+E5/140 -> 384095 | F21: =+E29 -> 349810.17 | G21: =+F29 -> 398128.87 | H21: =+G29 -> 438855.77 | I21: =+H29 -> 503492.4 | J21: =+I29 -> 402486.38 | K21: =+J29 -> 393608.07 | L21: =+K29 -> 361069.1 | M21: =+L29 -> 331755.4 | ... P21: =+O29 -> 367712.08
B23: Inventories | E23: =+E7 -> 42736 | F23: =+F7 -> 42767 | G23: =+G7 -> 42795 | H23: =+H7 -> 42826 | I23: =+I7 -> 42856 | J23: =+J7 -> 42887 | K23: =+K7 -> 42917 | L23: =+L7 -> 42948 | ... P23: =+P7 -> 43070
C24: Beginning inventory
C25: Purchases | E25: =+E9/140 -> 0 | F25: =+F9/140 -> 72084.007 | G25: =+G9/140 -> 78656.106 | H25: =+H9/140 -> 95825.455 | I25: =+I9/140 -> 1223.1429 | J25: =+J9/140 -> 40149.191 | K25: =+K9/140 -> 2292.6705 | L25: =+L9/140 -> 1395.45 | ... P25: =+P9/140 -> 53571.429
C26: Freight
C27: Direct labor | E27: =+E11/140 -> -34284.833 | F27: =+F11/140 -> -23765.298 | G27: =+G11/140 -> -37929.212 | H27: =+H11/140 -> -31188.827 | I27: =+I11/140 -> -102229.16 | J27: =+J11/140 -> -49027.506 | K27: =+K11/140 -> -34831.635 | L27: =+L11/140 -> -30709.15 | ... P27: =+P11/140 -> -65714.286
C28: Indirect expenses
B29: Inventories at End of Period | E29: =+E21+SUM(E24:E28) -> 349810.17 | F29: =+F21+SUM(F24:F28) -> 398128.87 | G29: =+G21+SUM(G24:G28) -> 438855.77 | H29: =+H21+SUM(H24:H28) -> 503492.4 | I29: =+I21+SUM(I24:I28) -> 402486.38 | J29: =+J21+SUM(J24:J28) -> 393608.07 | K29: =+K21+SUM(K24:K28) -> 361069.1 | L29: =+L21+SUM(L24:L28) -> 331755.4 | ... P29: =+P21+SUM(P24:P28) -> 355569.22
F31: =+SUM(F25:J25) -> 287937.9 | L31: =+SUM(L25:P25) -> 278165.88

Sheet VAT
B2: VAT
C4: For the Year Ending | E4: 42735
C5: VAT at Beginning of Period | E5: 289941.18 | F5: =+IF(E14>0,E14,0) -> 0 | G5: =+IF(F14>0,F14,0) -> 1143939.9 | H5: =+IF(G14>0,G14,0) -> 2331453.2 | I5: =+IF(H14>0,H14,0) -> 4184478.5 | J5: =+IF(I14>0,I14,0) -> 136474.62 | K5: =+IF(J14>0,J14,0) -> 0 | L5: =+IF(K14>0,K14,0) -> 0 | M5: =+IF(L14>0,L14,0) -> 0 | ... P5: =+IF(O14>0,O14,0) -> 0
B7: Inventories | E7: 42736 | F7: 42767 | G7: 42795 | H7: 42826 | I7: 42856 | J7: 42887 | K7: 42917 | L7: 42948 | M7: 42979 | N7: 43009 | O7: 43040 | P7: 43070
C8: Purchases | E8: =(-'P&L'!H56+'P&L'!H34+'P&L'!H36+'P&L'!H37+'P&L'!H38+'P&L'!H42+'P&L'!H44+'P&L'!H45+'P&L'!H46+'P&L'!H47+'P&L'!H48+'P&L'!H49+'P&L'!H50+'P&L'!H51+'P&L'!H52+'P&L'!H53)*0.2 -> 406928.15 | F8: =(-'P&L'!I56+'P&L'!I34+'P&L'!I36+'P&L'!I37+'P&L'!I38+'P&L'!I42+'P&L'!I44+'P&L'!I45+'P&L'!I46+'P&L'!I47+'P&L'!I48+'P&L'!I49+'P&L'!I50+'P&L'!I51+'P&L'!I52+'P&L'!I53)*0.2 -> 410869.06 | G8: =(-'P&L'!J56+'P&L'!J34+'P&L'!J36+'P&L'!J37+'P&L'!J38+'P&L'!J42+'P&L'!J44+'P&L'!J45+'P&L'!J46+'P&L'!J47+'P&L'!J48+'P&L'!J49+'P&L'!J50+'P&L'!J51+'P&L'!J52+'P&L'!J53)*0.2 -> 467772.38 | H8: =(-'P&L'!K56+'P&L'!K34+'P&L'!K36+'P&L'!K37+'P&L'!K38+'P&L'!K42+'P&L'!K44+'P&L'!K45+'P&L'!K46+'P&L'!K47+'P&L'!K48+'P&L'!K49+'P&L'!K50+'P&L'!K51+'P&L'!K52+'P&L'!K53)*0.2 -> 508329.48 | I8: =(-'P&L'!L56+'P&L'!L34+'P&L'!L36+'P&L'!L37+'P&L'!L38+'P&L'!L42+'P&L'!L44+'P&L'!L45+'P&L'!L46+'P&L'!L47+'P&L'!L48+'P&L'!L49+'P&L'!L50+'P&L'!L51+'P&L'!L52+'P&L'!L53)*0.2 -> 385121.18 | J8: =(-'P&L'!M56+'P&L'!M34+'P&L'!M36+'P&L'!M37+'P&L'!M38+'P&L'!M42+'P&L'!M44+'P&L'!M45+'P&L'!M46+'P&L'!M47+'P&L'!M48+'P&L'!M49+'P&L'!M50+'P&L'!M51+'P&L'!M52+'P&L'!M53)*0.2 -> 401170.21 | K8: =(-'P&L'!N56+'P&L'!N34+'P&L'!N36+'P&L'!N37+'P&L'!N38+'P&L'!N42+'P&L'!N44+'P&L'!N45+'P&L'!N46+'P&L'!N47+'P&L'!N48+'P&L'!N49+'P&L'!N50+'P&L'!N51+'P&L'!N52+'P&L'!N53)*0.2 -> 428527.37 | L8: =(-'P&L'!O56+'P&L'!O34+'P&L'!O36+'P&L'!O37+'P&L'!O38+'P&L'!O42+'P&L'!O44+'P&L'!O45+'P&L'!O46+'P&L'!O47+'P&L'!O48+'P&L'!O49+'P&L'!O50+'P&L'!O51+'P&L'!O52+'P&L'!O53)*0.2 -> 414335.27 | ... P8: =(-'P&L'!S56+'P&L'!S34+'P&L'!S36+'P&L'!S37+'P&L'!S38+'P&L'!S42+'P&L'!S44+'P&L'!S45+'P&L'!S46+'P&L'!S47+'P&L'!S48+'P&L'!S49+'P&L'!S50+'P&L'!S51+'P&L'!S52+'P&L'!S53)*0.2 -> 386881
C9: Inventories | E9: =+Inventories!E9*0.2 -> 0 | F9: =+Inventories!F9*0.2 -> 2018352.2 | G9: =+Inventories!G9*0.2 -> 2202371 | H9: =+Inventories!H9*0.2 -> 2683112.7 | I9: =+Inventories!I9*0.2 -> 34248 | J9: =+Inventories!J9*0.2 -> 1124177.4 | K9: =+Inventories!K9*0.2 -> 64194.774 | L9: =+Inventories!L9*0.2 -> 39072.6 | ... P9: =+Inventories!P9*0.2 -> 1500000
C10: Other | E10: 425436 | G10: =-CashFlow!G23*0.2 -> 0 | H10: =-CashFlow!H23*0.2 -> 0 | I10: =-CashFlow!I23*0.2 -> 0 | J10: =-CashFlow!J23*0.2+907627-564095 -> 343532 | K10: =-CashFlow!K23*0.2+1336314-1281730 -> 54584 | L10: =-CashFlow!L23*0.2 -> 0 | M10: =-CashFlow!M23*0.2 -> 0 | N10: =-CashFlow!N23*0.2 -> 0 | O10: =-CashFlow!O23*0.2 -> 0 | P10: =-CashFlow!P23*0.2 -> 0
C12: Sales | E12: =-'P&L'!H14*0.2 -> -1834137.9 | F12: =-'P&L'!I14*0.2 -> -1285281.3 | G12: =-'P&L'!J14*0.2 -> -1482630.1 | H12: =-'P&L'!K14*0.2 -> -1338416.9 | I12: =-'P&L'!L14*0.2 -> -4467373.1 | J12: =-'P&L'!M14*0.2 -> -2569449.6 | K12: =-'P&L'!N14*0.2 -> -1829035.7 | L12: =-'P&L'!O14*0.2 -> -1448281.7 | ... P12: =-'P&L'!S14*0.2 -> -3100000
C13: Other
B14: VAT at End of Period | E14: =+E5+SUM(E8:E13) -> -711832.56 | F14: =+F5+SUM(F8:F13) -> 1143939.9 | G14: =+G5+SUM(G8:G13) -> 2331453.2 | H14: =+H5+SUM(H8:H13) -> 4184478.5 | I14: =+I5+SUM(I8:I13) -> 136474.62 | J14: =+J5+SUM(J8:J13) -> -564095.43 | K14: =+K5+SUM(K8:K13) -> -1281729.5 | L14: =+L5+SUM(L8:L13) -> -994873.79 | ... P14: =+P5+SUM(P8:P13) -> -1213119
B16: Pagese TVSH | E16: =+IF(E14<0,E14,"NO") -> -711832.56 | F16: =+IF(F14<0,F14,"NO") -> NO | G16: =+IF(G14<0,G14,"NO") -> NO | H16: =+IF(H14<0,H14,"NO") -> NO | I16: =+IF(I14<0,I14,"NO") -> NO | J16: =+IF(J14<0,J14,"NO") -> -564095.43 | K16: =+IF(K14<0,K14,"NO") -> -1281729.5 | L16: =+IF(L14<0,L14,"NO") -> -994873.79 | ... P16: =+IF(P14<0,P14,"NO") -> -1213119
B18: Pagese TVSH vjetore | E18: =-SUM(E16:P16) -> 5827643.6
B20: Te ardhurat neto Vjetore | E20: =+'P&L'!T14 -> 1.3921867e+08
B22: TVSH pagese marxh | E22: =+E18/E20 -> 0.041859642

Sheet dividenti
AB1: 0.1 | AC1: 0.05
A2: nr.rn. | B2: subjekti | C2: nipt | D2: forma | E2: tatimi | G2: vendimi i asambese se ortakeve | H2: pf te skanuara | I2: depozitimi ne tatime | J2: depozitimi ne qkr | K2: e-albania individ | L2: pass | M2: e-albania biznes | N2: pass | P2: shenime | R2: 2009 | S2: 2010 | T2: 2011 | U2: 2012 | V2: 2013 | W2: 2014 | X2: 2015 | Y2: 2016 | Z2: tot | AB2: rezerva ligjore | AC2: rezerva statutore | AD2: investime afatgjata | AE2: divident | AF2: kapitali themeltar | AG2: rritje kapitali | AH2: aam | AI2: tatim
A3: 15 | B3: PRESTIGE FRANÇAIS | C3: L31715010E | D3: shpk | E3: tatim fitimi | G3: OK | H3: OK | I3: OK | J3: OK | K3: I10328119N | L3: Circle99 | M3: L31715010E | N3: Circle99 | V3: 1753843.3 | W3: 11455664 | X3: 11876971 | Y3: 17820212 | Z3: 42906691 | AE3: =+V3 -> 1753843.3 | AH3: 41925352 | AI3: =+AE3*0.15 -> 263076.5

Sheet lv
A1: PERSHKRIMLLOG1 | B1: LLOGARIPK | C1: PERSHKRIMPK | D1: M01 | E1: M02 | F1: M03 | G1: M04 | H1: M05 | I1: M06 | J1: M07 | K1: M08 | L1: M09 | M1: M10 | N1: M11 | O1: M12
B2: 2182 | C2: Pajisje informative | D2: 0 | E2: 0 | F2: 0 | G2: 0 | H2: 0 | I2: 0 | J2: 0 | K2: 0 | L2: 39500 | M2: 0 | N2: 0 | O2: 0
B3: 2188 | C3: Te tjera | D3: 0 | E3: 0 | F3: 0 | G3: 0 | H3: 4983.33 | I3: 0 | J3: 10825 | K3: 77250 | L3: 56250 | M3: 0 | N3: 0 | O3: 0
B4: 3110001 | C4: Materiale te para | D4: -21232.523 | E4: 0 | F4: -16343.053 | G4: -211364.62 | H4: -92646.209 | I4: 130521.9 | J4: 57013.7 | K4: -113926.19 | L4: -72972.338 | M4: 0 | N4: 0 | O4: 0
B5: 3124001 | C5: Lende djegese | D5: 0 | E5: 0 | F5: -42750.01 | G5: 0 | H5: 0 | I5: 0 | J5: 0 | K5: 0 | L5: 0 | M5: 0 | N5: 0 | O5: 0
B6: 3510001 | C6: Mallra grupi I | D6: -4778644.1 | E6: 6764619.2 | F6: 5760858.3 | G6: 9260492.5 | H6: -14048196 | I6: -1373485.9 | J6: -4612468.7 | K6: -3989991.8 | L6: 3506906.8 | M6: 431193.07 | N6: 0 | O6: 0
B7: 401 | C7: Furnitore per mallra , produkte e sherbime | D7: 2976046.8 | E7: -3330052.4 | F7: -5166079.6 | G7: -8097108.8 | H7: 2590122.8 | I7: 2838305.2 | J7: -464548.91 | K7: -110727.68 | L7: -12640274 | M7: -539842.76 | N7: 0 | O7: 0
B8: 411 | C8: Kliente per mallra , produkte e sherbime | D8: 103.65 | E8: 33.49 | F8: 238.59 | G8: 90.46 | H8: 3389494.9 | I8: -3389989.7 | J8: -7.12 | K8: -23891.97 | L8: 11363422 | M8: 3714507.6 | N8: 0 | O8: 0
B9: 421 | C9: Paga e shperblime | D9: -498410 | E9: -10923 | F9: -190000 | G9: -60000 | H9: 8968 | I9: 52362 | J9: -95635 | K9: 545135 | L9: 140000 | M9: 0 | N9: 0 | O9: 0
B10: 431 | C10: Sigurime shoqerore dhe shendetsore | D10: 3437 | E10: -3298 | F10: -76675 | G10: 0 | H10: -5744 | I10: 11579 | J10: -8059 | K10: -5461 | L10: 232851 | M10: 0 | N10: 0 | O10: 0
B11: 438 | C11: Detyrime te tjera | D11: 0 | E11: 0 | F11: 0 | G11: 0 | H11: 0 | I11: 0 | J11: 0 | K11: -59734 | L11: 0 | M11: 0 | N11: 0 | O11: 0
B12: 442 | C12: Tatim mbi te ardhurat e personale | D12: 0 | E12: 0 | F12: 1 | G12: 1 | H12: -127 | I12: 0 | J12: 0 | K12: 0 | L12: 24887 | M12: 0 | N12: 0 | O12: 0
B13: 444 | C13: Tatim mbi fitimin | D13: 0 | E13: 349468 | F13: 0 | G13: 0 | H13: 550000 | I13: 484382 | J13: 600000 | K13: 491096 | L13: 0 | M13: 0 | N13: 0 | O13: 0
... B97: 792 | C97: Zbritje ne shitje | D97: 7798738.6 | E97: 5212038.1 | F97: 10398378 | G97: 7430597.7 | H97: 19986890 | I97: 4778381.3 | J97: 2724334.8 | K97: 6840785.7 | L97: 5217996 | M97: -37321.67 | N97: 0 | O97: 0
C99: shpenzimet | D99: =-SUM(D52:D89) -> -7874667.2 | E99: =-SUM(E52:E89) -> -6479944.5 | F99: =-SUM(F52:F89) -> -9071108.1 | G99: =-SUM(G52:G89) -> -8140829.5 | H99: =-SUM(H52:H89) -> -17521503 | I99: =-SUM(I52:I89) -> -10020184 | J99: =-SUM(J52:J89) -> -8211843.1 | K99: =-SUM(K52:K89) -> -7589075.1 | ... O99: =-SUM(O52:O89) -> 0
C100: shp P&L | D100: =+'P&L'!H17+'P&L'!H19+'P&L'!H56 -> -8295667.2 | E100: =+'P&L'!I17+'P&L'!I19+'P&L'!I56 -> -6900944.5 | F100: =+'P&L'!J17+'P&L'!J19+'P&L'!J56 -> -9492108.1 | G100: =+'P&L'!K17+'P&L'!K19+'P&L'!K56 -> -8561829.5 | H100: =+'P&L'!L17+'P&L'!L19+'P&L'!L56 -> -17942503 | I100: =+'P&L'!M17+'P&L'!M19+'P&L'!M56 -> -10441184 | J100: =+'P&L'!N17+'P&L'!N19+'P&L'!N56 -> -8632843.1 | K100: =+'P&L'!O17+'P&L'!O19+'P&L'!O56 -> -8010075.1 | ... O100: =+'P&L'!S17+'P&L'!S19+'P&L'!S56 -> -12775055
C101: ndryshimi | D101: =+D99-D100 -> 421000 | E101: =+E99-E100 -> 421000 | F101: =+F99-F100 -> 421000 | G101: =+G99-G100 -> 421000 | H101: =+H99-H100 -> 421000 | I101: =+I99-I100 -> 421000 | J101: =+J99-J100 -> 421000 | K101: =+K99-K100 -> 421000 | ... O101: =+O99-O100 -> 12775055
C103: te ardhurat | D103: =-SUM(D90:D97) -> 9170689.5 | E103: =-SUM(E90:E97) -> 6426406.7 | F103: =-SUM(F90:F97) -> 7413150.4 | G103: =-SUM(G90:G97) -> 6692084.3 | H103: =-SUM(H90:H97) -> 22336866 | I103: =-SUM(I90:I97) -> 12847248 | J103: =-SUM(J90:J97) -> 9145178.4 | K103: =-SUM(K90:K97) -> 7241408.3 | ... O103: =-SUM(O90:O97) -> 0
C104: te ardh P&L | D104: =+'P&L'!H14 -> 9170689.5 | E104: =+'P&L'!I14 -> 6426406.7 | F104: =+'P&L'!J14 -> 7413150.4 | G104: =+'P&L'!K14 -> 6692084.3 | H104: =+'P&L'!L14 -> 22336866 | I104: =+'P&L'!M14 -> 12847248 | J104: =+'P&L'!N14 -> 9145178.4 | K104: =+'P&L'!O14 -> 7241408.3 | ... O104: =+'P&L'!S14 -> 15500000
C105: ndryshimi | D105: =+D103-D104 -> 0 | E105: =+E103-E104 -> 0 | F105: =+F103-F104 -> 0 | G105: =+G103-G104 -> 0 | H105: =+H103-H104 -> 0 | I105: =+I103-I104 -> 0 | J105: =+J103-J104 -> 0 | K105: =+K103-K104 -> 0 | ... O105: =+O103-O104 -> -15500000
