Workbook

Sheet P&L
B2: Te Ardhura & Shpenzime | H2: 2017 | V2: VAT code
H3: Janar | I3: Shkurt | J3: Mars | K3: Prill | L3: Maj | M3: Qershor | N3: Korrik | O3: Gusht | P3: Shtator | Q3: Tetor | R3: Nentor | S3: Dhjetor | T3: Totali
B5: Te Ardhura
C6: Shitje e Produkteve te Veta | T6: =SUM(H6:S6) -> 0 | V6: 2
C7: Te Ardhura nga Sherbimet | H7: =-SUMIFS(lv!D:D,lv!$B:$B,"704") -> 0 | I7: =-SUMIFS(lv!E:E,lv!$B:$B,"704") -> 0 | J7: =-SUMIFS(lv!F:F,lv!$B:$B,"704") -> 0 | K7: =-SUMIFS(lv!G:G,lv!$B:$B,"704") -> 0 | L7: =-SUMIFS(lv!H:H,lv!$B:$B,"704") -> 0 | M7: =-SUMIFS(lv!I:I,lv!$B:$B,"704") -> 0 | N7: =-SUMIFS(lv!J:J,lv!$B:$B,"704") -> 0 | O7: =-SUMIFS(lv!K:K,lv!$B:$B,"704") -> 0 | P7: =-SUMIFS(lv!L:L,lv!$B:$B,"704") -> 0 | Q7: =-SUMIFS(lv!M:M,lv!$B:$B,"704") -> 0 | R7: =-SUMIFS(lv!N:N,lv!$B:$B,"704") -> 0 | S7: =-SUMIFS(lv!O:O,lv!$B:$B,"704") -> 0 | T7: =SUM(H7:S7) -> 0 | V7: 2
C8: Shitje e Mallrave | H8: =-SUMIFS(lv!D:D,lv!$B:$B,"705") -> 3955277.8 | I8: =-SUMIFS(lv!E:E,lv!$B:$B,"705") -> 1821942.8 | J8: =-SUMIFS(lv!F:F,lv!$B:$B,"705") -> 3701119.5 | K8: =-SUMIFS(lv!G:G,lv!$B:$B,"705") -> 1850923.9 | L8: =-SUMIFS(lv!H:H,lv!$B:$B,"705") -> 3579972.3 | M8: =-SUMIFS(lv!I:I,lv!$B:$B,"705") -> 15161474 | N8: =-SUMIFS(lv!J:J,lv!$B:$B,"705") -> 5127371.4 | O8: =-SUMIFS(lv!K:K,lv!$B:$B,"705") -> 15267633 | P8: =-SUMIFS(lv!L:L,lv!$B:$B,"705") -> 10747600 | Q8: 20000000 | R8: 20000000 | S8: 20000000 | T8: =SUM(H8:S8) -> 1.2121332e+08 | V8: 2
C9: Shitje e Mallrave me Shumice | R9: 10000000 | S9: 20000000 | T9: =SUM(H9:S9) -> 30000000 | V9: 2
C10: Te tjera | H10: =-SUMIFS(lv!D:D,lv!$B:$B,"758")-SUMIFS(lv!D:D,lv!$B:$B,"767")-SUMIFS(lv!D:D,lv!$B:$B,"769")-SUMIFS(lv!D:D,lv!$B:$B,"772") -> 25804.91 | I10: =-SUMIFS(lv!E:E,lv!$B:$B,"758")-SUMIFS(lv!E:E,lv!$B:$B,"767")-SUMIFS(lv!E:E,lv!$B:$B,"769")-SUMIFS(lv!E:E,lv!$B:$B,"772") -> 2818161.9 | J10: =-SUMIFS(lv!F:F,lv!$B:$B,"758")-SUMIFS(lv!F:F,lv!$B:$B,"767")-SUMIFS(lv!F:F,lv!$B:$B,"769")-SUMIFS(lv!F:F,lv!$B:$B,"772") -> 1705.75 | K10: =-SUMIFS(lv!G:G,lv!$B:$B,"758")-SUMIFS(lv!G:G,lv!$B:$B,"767")-SUMIFS(lv!G:G,lv!$B:$B,"769")-SUMIFS(lv!G:G,lv!$B:$B,"772") -> 788 | L10: =-SUMIFS(lv!H:H,lv!$B:$B,"758")-SUMIFS(lv!H:H,lv!$B:$B,"767")-SUMIFS(lv!H:H,lv!$B:$B,"769")-SUMIFS(lv!H:H,lv!$B:$B,"772") -> 29022.09 | M10: =-SUMIFS(lv!I:I,lv!$B:$B,"758")-SUMIFS(lv!I:I,lv!$B:$B,"767")-SUMIFS(lv!I:I,lv!$B:$B,"769")-SUMIFS(lv!I:I,lv!$B:$B,"772") -> 54848.25 | N10: =-SUMIFS(lv!J:J,lv!$B:$B,"758")-SUMIFS(lv!J:J,lv!$B:$B,"767")-SUMIFS(lv!J:J,lv!$B:$B,"769")-SUMIFS(lv!J:J,lv!$B:$B,"772") -> 20827.62 | O10: =-SUMIFS(lv!K:K,lv!$B:$B,"758")-SUMIFS(lv!K:K,lv!$B:$B,"767")-SUMIFS(lv!K:K,lv!$B:$B,"769")-SUMIFS(lv!K:K,lv!$B:$B,"772") -> 10971.56 | P10: =-SUMIFS(lv!L:L,lv!$B:$B,"758")-SUMIFS(lv!L:L,lv!$B:$B,"767")-SUMIFS(lv!L:L,lv!$B:$B,"769")-SUMIFS(lv!L:L,lv!$B:$B,"772") -> 1.2 | Q10: =-SUMIFS(lv!M:M,lv!$B:$B,"758")-SUMIFS(lv!M:M,lv!$B:$B,"767")-SUMIFS(lv!M:M,lv!$B:$B,"769") -> 0 | R10: =-SUMIFS(lv!N:N,lv!$B:$B,"758")-SUMIFS(lv!N:N,lv!$B:$B,"767")-SUMIFS(lv!N:N,lv!$B:$B,"769") -> 0 | S10: =-SUMIFS(lv!O:O,lv!$B:$B,"758")-SUMIFS(lv!O:O,lv!$B:$B,"767")-SUMIFS(lv!O:O,lv!$B:$B,"769") -> 0 | T10: =SUM(H10:S10) -> 2962131.3
C11: Zbritje ne Blerje | H11: =-SUMIFS(lv!D:D,lv!$B:$B,"791") -> 0 | I11: =-SUMIFS(lv!E:E,lv!$B:$B,"791") -> 0 | J11: =-SUMIFS(lv!F:F,lv!$B:$B,"791") -> 0 | K11: =-SUMIFS(lv!G:G,lv!$B:$B,"791") -> 0 | L11: =-SUMIFS(lv!H:H,lv!$B:$B,"791") -> 0 | M11: =-SUMIFS(lv!I:I,lv!$B:$B,"791") -> 0 | N11: =-SUMIFS(lv!J:J,lv!$B:$B,"791") -> 0 | O11: =-SUMIFS(lv!K:K,lv!$B:$B,"791") -> 0 | P11: =-SUMIFS(lv!L:L,lv!$B:$B,"791") -> 176445.78 | Q11: =-SUMIFS(lv!M:M,lv!$B:$B,"791") -> 0 | R11: =-SUMIFS(lv!N:N,lv!$B:$B,"791") -> 0 | S11: =-SUMIFS(lv!O:O,lv!$B:$B,"791") -> 0 | T11: =SUM(H11:S11) -> 176445.78
C12: Zbritje ne Shitje | H12: =-SUMIFS(lv!D:D,lv!$B:$B,"792") -> -223172.33 | I12: =-SUMIFS(lv!E:E,lv!$B:$B,"792") -> -173376.42 | J12: =-SUMIFS(lv!F:F,lv!$B:$B,"792") -> -458705.28 | K12: =-SUMIFS(lv!G:G,lv!$B:$B,"792") -> -142389.23 | L12: =-SUMIFS(lv!H:H,lv!$B:$B,"792") -> -557050.1 | M12: =-SUMIFS(lv!I:I,lv!$B:$B,"792") -> -36164.4 | N12: =-SUMIFS(lv!J:J,lv!$B:$B,"792") -> -340988.04 | O12: =-SUMIFS(lv!K:K,lv!$B:$B,"792") -> -632348.93 | P12: =-SUMIFS(lv!L:L,lv!$B:$B,"792") -> -598266.67 | Q12: =-Q8*25% -> -5000000 | R12: =-R8*25% -> -5000000 | S12: =-S8*25% -> -5000000 | T12: =SUM(H12:S12) -> -18162461 | V12: 2
T13: =+SUM(H13:S13) -> 0
B14: Totali I Te Ardhurave | H14: =SUM(H6:H13) -> 3757910.4 | I14: =SUM(I6:I13) -> 4466728.3 | J14: =SUM(J6:J13) -> 3244120 | K14: =SUM(K6:K13) -> 1709322.7 | L14: =SUM(L6:L13) -> 3051944.2 | M14: =SUM(M6:M13) -> 15180158 | N14: =SUM(N6:N13) -> 4807211 | O14: =SUM(O6:O13) -> 14646256 | ... T14: =SUM(T6:T13) -> 1.3618943e+08
C16: Zbritje | G16: %
C17: Kosto e Mallrave te Shitura | H17: =-SUMIFS(lv!D:D,lv!$B:$B,"601")-SUMIFS(lv!D:D,lv!$B:$B,"6031")-SUMIFS(lv!D:D,lv!$B:$B,"6035")-SUMIFS(lv!D:D,lv!$B:$B,"605") -> -2087840 | I17: =-SUMIFS(lv!E:E,lv!$B:$B,"601")-SUMIFS(lv!E:E,lv!$B:$B,"6031")-SUMIFS(lv!E:E,lv!$B:$B,"6035")-SUMIFS(lv!E:E,lv!$B:$B,"605") -> -848514.86 | J17: =-SUMIFS(lv!F:F,lv!$B:$B,"601")-SUMIFS(lv!F:F,lv!$B:$B,"6031")-SUMIFS(lv!F:F,lv!$B:$B,"6035")-SUMIFS(lv!F:F,lv!$B:$B,"605") -> -1049573.1 | K17: =-SUMIFS(lv!G:G,lv!$B:$B,"601")-SUMIFS(lv!G:G,lv!$B:$B,"6031")-SUMIFS(lv!G:G,lv!$B:$B,"6035")-SUMIFS(lv!G:G,lv!$B:$B,"605") -> -150692.59 | L17: =-SUMIFS(lv!H:H,lv!$B:$B,"601")-SUMIFS(lv!H:H,lv!$B:$B,"6031")-SUMIFS(lv!H:H,lv!$B:$B,"6035")-SUMIFS(lv!H:H,lv!$B:$B,"605") -> -1215753.4 | M17: =-SUMIFS(lv!I:I,lv!$B:$B,"601")-SUMIFS(lv!I:I,lv!$B:$B,"6031")-SUMIFS(lv!I:I,lv!$B:$B,"6035")-SUMIFS(lv!I:I,lv!$B:$B,"605") -> -10206708 | N17: =-SUMIFS(lv!J:J,lv!$B:$B,"601")-SUMIFS(lv!J:J,lv!$B:$B,"6031")-SUMIFS(lv!J:J,lv!$B:$B,"6035")-SUMIFS(lv!J:J,lv!$B:$B,"605") -> -2099952.5 | O17: =-SUMIFS(lv!K:K,lv!$B:$B,"601")-SUMIFS(lv!K:K,lv!$B:$B,"6031")-SUMIFS(lv!K:K,lv!$B:$B,"6035")-SUMIFS(lv!K:K,lv!$B:$B,"605") -> -10607020 | P17: =-SUMIFS(lv!L:L,lv!$B:$B,"601")-SUMIFS(lv!L:L,lv!$B:$B,"6031")-SUMIFS(lv!L:L,lv!$B:$B,"6035")-SUMIFS(lv!L:L,lv!$B:$B,"605") -> -5542756.9 | Q17: =+Q8*Q18 -> -6600000 | R17: =+R8*R18 -> -6600000 | S17: =+S8*S18 -> -6600000 | T17: =SUM(H17:S17) -> -53608812
D18: Margin | H18: =+H17/H8 -> -0.5278618 | I18: =+I17/I8 -> -0.46571981 | J18: =+J17/J8 -> -0.28358259 | K18: =+K17/K8 -> -0.081414794 | L18: =+L17/L8 -> -0.33959855 | M18: =+M17/M8 -> -0.67320022 | N18: =+N17/N8 -> -0.40955732 | O18: =+O17/O8 -> -0.69473902 | P18: =+P17/P8 -> -0.51572042 | Q18: -0.33 | R18: -0.33 | S18: -0.33
C19: Kosto e Mallrave te Shitura me Zbritje 50% | H19: =+H9*H20 -> 0 | I19: =+I9*I20 -> 0 | J19: =+J9*J20 -> 0 | K19: =+K9*K20 -> 0 | L19: =+L9*L20 -> 0 | M19: =+M9*M20 -> 0 | N19: =+N9*N20 -> 0 | O19: =+O9*O20 -> 0 | ... S19: =+S9*S20 -> -17000000 | T19: =SUM(H19:S19) -> -25500000
D20: Margin | H20: -0.85 | I20: -0.85 | J20: -0.85 | K20: -0.85 | L20: -0.85 | M20: -0.85 | N20: -0.85 | O20: -0.85 | P20: -0.85 | Q20: -0.85 | R20: -0.85 | S20: -0.85
B22: Shpenzimet Operative
C24: Uje,energji elektrike,gaz | H24: =-SUMIFS(lv!D:D,lv!$B:$B,"6040001") -> -50614 | I24: =-SUMIFS(lv!E:E,lv!$B:$B,"6040001") -> -22572 | J24: =-SUMIFS(lv!F:F,lv!$B:$B,"6040001") -> -22572 | K24: =-SUMIFS(lv!G:G,lv!$B:$B,"6040001") -> -89184 | L24: =-SUMIFS(lv!H:H,lv!$B:$B,"6040001") -> -42816 | M24: =-SUMIFS(lv!I:I,lv!$B:$B,"6040001") -> -16072 | N24: =-SUMIFS(lv!J:J,lv!$B:$B,"6040001") -> 0 | O24: =-SUMIFS(lv!K:K,lv!$B:$B,"6040001") -> 0 | P24: =-SUMIFS(lv!L:L,lv!$B:$B,"6040001") -> 0 | Q24: -40000 | R24: -40000 | S24: -40000 | T24: =SUM(H24:S24) -> -363830 | V24: 2
C25: Shpenzime per Blerje te Pastokueshme | H25: =-SUMIFS(lv!D:D,lv!$B:$B,"606")-SUMIFS(lv!D:D,lv!$B:$B,"606001")-SUMIFS(lv!D:D,lv!$B:$B,"6060001")-SUMIFS(lv!D:D,lv!$B:$B,"608") -> -63127.43 | I25: =-SUMIFS(lv!E:E,lv!$B:$B,"606")-SUMIFS(lv!E:E,lv!$B:$B,"606001")-SUMIFS(lv!E:E,lv!$B:$B,"6060001")-SUMIFS(lv!E:E,lv!$B:$B,"608") -> -94670.3 | J25: =-SUMIFS(lv!F:F,lv!$B:$B,"606")-SUMIFS(lv!F:F,lv!$B:$B,"606001")-SUMIFS(lv!F:F,lv!$B:$B,"6060001")-SUMIFS(lv!F:F,lv!$B:$B,"608") -> -133894.18 | K25: =-SUMIFS(lv!G:G,lv!$B:$B,"606")-SUMIFS(lv!G:G,lv!$B:$B,"606001")-SUMIFS(lv!G:G,lv!$B:$B,"6060001")-SUMIFS(lv!G:G,lv!$B:$B,"608") -> -226892.91 | L25: =-SUMIFS(lv!H:H,lv!$B:$B,"606")-SUMIFS(lv!H:H,lv!$B:$B,"606001")-SUMIFS(lv!H:H,lv!$B:$B,"6060001")-SUMIFS(lv!H:H,lv!$B:$B,"608") -> -208595.03 | M25: =-SUMIFS(lv!I:I,lv!$B:$B,"606")-SUMIFS(lv!I:I,lv!$B:$B,"606001")-SUMIFS(lv!I:I,lv!$B:$B,"6060001")-SUMIFS(lv!I:I,lv!$B:$B,"608") -> -414491.26 | N25: =-SUMIFS(lv!J:J,lv!$B:$B,"606")-SUMIFS(lv!J:J,lv!$B:$B,"606001")-SUMIFS(lv!J:J,lv!$B:$B,"6060001")-SUMIFS(lv!J:J,lv!$B:$B,"608") -> -259344.67 | O25: =-SUMIFS(lv!K:K,lv!$B:$B,"606")-SUMIFS(lv!K:K,lv!$B:$B,"606001")-SUMIFS(lv!K:K,lv!$B:$B,"6060001")-SUMIFS(lv!K:K,lv!$B:$B,"608") -> -354470.28 | P25: =-SUMIFS(lv!L:L,lv!$B:$B,"606")-SUMIFS(lv!L:L,lv!$B:$B,"606001")-SUMIFS(lv!L:L,lv!$B:$B,"6060001")-SUMIFS(lv!L:L,lv!$B:$B,"608") -> -121352.32 | Q25: -30000 | R25: -30000 | S25: -30000 | T25: =SUM(H25:S25) -> -1966838.4 | V25: 2
C26: Utilitete CP | H26: =-SUMIFS(lv!D:D,lv!$B:$B,"6110006") -> 0 | I26: =-SUMIFS(lv!E:E,lv!$B:$B,"6110006") -> 0 | J26: =-SUMIFS(lv!F:F,lv!$B:$B,"6110006") -> -102039.2 | K26: =-SUMIFS(lv!G:G,lv!$B:$B,"6110006") -> -575149.25 | L26: =-SUMIFS(lv!H:H,lv!$B:$B,"6110006") -> -364500 | M26: =-SUMIFS(lv!I:I,lv!$B:$B,"6110006") -> -102944.21 | N26: =-SUMIFS(lv!J:J,lv!$B:$B,"6110006") -> 0 | O26: =-SUMIFS(lv!K:K,lv!$B:$B,"6110006") -> 0 | P26: =-SUMIFS(lv!L:L,lv!$B:$B,"6110006") -> 0 | T26: =SUM(H26:S26) -> -1144632.7 | V26: 2
C27: Utilitete BLLOK | T27: =SUM(H27:S27) -> 0 | V27: 2
C28: Nentrajtime | H28: =-SUMIFS(lv!D:D,lv!$B:$B,"6110001")-SUMIFS(lv!D:D,lv!$B:$B,"6110003")-SUMIFS(lv!D:D,lv!$B:$B,"6110004")-SUMIFS(lv!D:D,lv!$B:$B,"6110005")-SUMIFS(lv!D:D,lv!$B:$B,"6110007")-SUMIFS(lv!D:D,lv!$B:$B,"6110008")-SUMIFS(lv!D:D,lv!$B:$B,"6110009")-SUMIFS(lv!D:D,lv!$B:$B,"6110010")-SUMIFS(lv!D:D,lv!$B:$B,"6110013")-SUMIFS(lv!D:D,lv!$B:$B,"6110014") -> -217334.08 | I28: =-SUMIFS(lv!E:E,lv!$B:$B,"6110001")-SUMIFS(lv!E:E,lv!$B:$B,"6110003")-SUMIFS(lv!E:E,lv!$B:$B,"6110004")-SUMIFS(lv!E:E,lv!$B:$B,"6110005")-SUMIFS(lv!E:E,lv!$B:$B,"6110007")-SUMIFS(lv!E:E,lv!$B:$B,"6110008")-SUMIFS(lv!E:E,lv!$B:$B,"6110009")-SUMIFS(lv!E:E,lv!$B:$B,"6110010")-SUMIFS(lv!E:E,lv!$B:$B,"6110013")-SUMIFS(lv!E:E,lv!$B:$B,"6110014") -> -25950 | J28: =-SUMIFS(lv!F:F,lv!$B:$B,"6110001")-SUMIFS(lv!F:F,lv!$B:$B,"6110003")-SUMIFS(lv!F:F,lv!$B:$B,"6110004")-SUMIFS(lv!F:F,lv!$B:$B,"6110005")-SUMIFS(lv!F:F,lv!$B:$B,"6110007")-SUMIFS(lv!F:F,lv!$B:$B,"6110008")-SUMIFS(lv!F:F,lv!$B:$B,"6110009")-SUMIFS(lv!F:F,lv!$B:$B,"6110010")-SUMIFS(lv!F:F,lv!$B:$B,"6110013")-SUMIFS(lv!F:F,lv!$B:$B,"6110014") -> -110666.67 | K28: =-SUMIFS(lv!G:G,lv!$B:$B,"6110001")-SUMIFS(lv!G:G,lv!$B:$B,"6110003")-SUMIFS(lv!G:G,lv!$B:$B,"6110004")-SUMIFS(lv!G:G,lv!$B:$B,"6110005")-SUMIFS(lv!G:G,lv!$B:$B,"6110007")-SUMIFS(lv!G:G,lv!$B:$B,"6110008")-SUMIFS(lv!G:G,lv!$B:$B,"6110009")-SUMIFS(lv!G:G,lv!$B:$B,"6110010")-SUMIFS(lv!G:G,lv!$B:$B,"6110013")-SUMIFS(lv!G:G,lv!$B:$B,"6110014") -> -252500 | L28: =-SUMIFS(lv!H:H,lv!$B:$B,"6110001")-SUMIFS(lv!H:H,lv!$B:$B,"6110003")-SUMIFS(lv!H:H,lv!$B:$B,"6110004")-SUMIFS(lv!H:H,lv!$B:$B,"6110005")-SUMIFS(lv!H:H,lv!$B:$B,"6110007")-SUMIFS(lv!H:H,lv!$B:$B,"6110008")-SUMIFS(lv!H:H,lv!$B:$B,"6110009")-SUMIFS(lv!H:H,lv!$B:$B,"6110010")-SUMIFS(lv!H:H,lv!$B:$B,"6110013")-SUMIFS(lv!H:H,lv!$B:$B,"6110014") -> -223198.33 | M28: =-SUMIFS(lv!I:I,lv!$B:$B,"6110001")-SUMIFS(lv!I:I,lv!$B:$B,"6110003")-SUMIFS(lv!I:I,lv!$B:$B,"6110004")-SUMIFS(lv!I:I,lv!$B:$B,"6110005")-SUMIFS(lv!I:I,lv!$B:$B,"6110007")-SUMIFS(lv!I:I,lv!$B:$B,"6110008")-SUMIFS(lv!I:I,lv!$B:$B,"6110009")-SUMIFS(lv!I:I,lv!$B:$B,"6110010")-SUMIFS(lv!I:I,lv!$B:$B,"6110013")-SUMIFS(lv!I:I,lv!$B:$B,"6110014") -> -266333.34 | N28: =-SUMIFS(lv!J:J,lv!$B:$B,"6110001")-SUMIFS(lv!J:J,lv!$B:$B,"6110003")-SUMIFS(lv!J:J,lv!$B:$B,"6110004")-SUMIFS(lv!J:J,lv!$B:$B,"6110005")-SUMIFS(lv!J:J,lv!$B:$B,"6110007")-SUMIFS(lv!J:J,lv!$B:$B,"6110008")-SUMIFS(lv!J:J,lv!$B:$B,"6110009")-SUMIFS(lv!J:J,lv!$B:$B,"6110010")-SUMIFS(lv!J:J,lv!$B:$B,"6110013")-SUMIFS(lv!J:J,lv!$B:$B,"6110014") -> -99666.67 | O28: =-SUMIFS(lv!K:K,lv!$B:$B,"6110001")-SUMIFS(lv!K:K,lv!$B:$B,"6110003")-SUMIFS(lv!K:K,lv!$B:$B,"6110004")-SUMIFS(lv!K:K,lv!$B:$B,"6110005")-SUMIFS(lv!K:K,lv!$B:$B,"6110007")-SUMIFS(lv!K:K,lv!$B:$B,"6110008")-SUMIFS(lv!K:K,lv!$B:$B,"6110009")-SUMIFS(lv!K:K,lv!$B:$B,"6110010")-SUMIFS(lv!K:K,lv!$B:$B,"6110013")-SUMIFS(lv!K:K,lv!$B:$B,"6110014") -> -127719.82 | P28: =-SUMIFS(lv!L:L,lv!$B:$B,"6110001")-SUMIFS(lv!L:L,lv!$B:$B,"6110003")-SUMIFS(lv!L:L,lv!$B:$B,"6110004")-SUMIFS(lv!L:L,lv!$B:$B,"6110005")-SUMIFS(lv!L:L,lv!$B:$B,"6110007")-SUMIFS(lv!L:L,lv!$B:$B,"6110008")-SUMIFS(lv!L:L,lv!$B:$B,"6110009")-SUMIFS(lv!L:L,lv!$B:$B,"6110010")-SUMIFS(lv!L:L,lv!$B:$B,"6110013")-SUMIFS(lv!L:L,lv!$B:$B,"6110014") -> -492666.67 | Q28: -180000 | R28: -180000 | S28: -180000 | T28: =SUM(H28:S28) -> -2356035.6 | V28: 2
C29: Shpenzime Qiraje CP | H29: =-SUMIFS(lv!D:D,lv!$B:$B,"613")-H30-H31 -> -91270.834 | I29: =-SUMIFS(lv!E:E,lv!$B:$B,"613")-I30-I31 -> 422449.55 | J29: =-SUMIFS(lv!F:F,lv!$B:$B,"613")-J30-J31 -> -562875 | K29: =-SUMIFS(lv!G:G,lv!$B:$B,"613")-K30-K31 -> 14542.57 | L29: =-SUMIFS(lv!H:H,lv!$B:$B,"613")-L30-L31 -> 64225 | M29: =-SUMIFS(lv!I:I,lv!$B:$B,"613")-M30-M31 -> -235775 | N29: =-SUMIFS(lv!J:J,lv!$B:$B,"613")-N30-N31 -> -35775 | O29: =-SUMIFS(lv!K:K,lv!$B:$B,"613")-O30-O31 -> -35775 | P29: =-SUMIFS(lv!L:L,lv!$B:$B,"613")-P30-P31 -> -35775 | T29: =SUM(H29:S29) -> -496028.72 | V29: 2
C30: Shpenzime Qiraje BLLOK | H30: =-3500*135 -> -472500 | I30: =-3500*135 -> -472500 | J30: =-3500*135 -> -472500 | K30: =-3500*135 -> -472500 | L30: =-3500*135 -> -472500 | M30: =-3500*135 -> -472500 | N30: =-3500*135 -> -472500 | O30: =-3500*135 -> -472500 | ... S30: =-3500*135 -> -472500 | T30: =SUM(H30:S30) -> -5670000
C31: Shpenzime Qiraje ShowRoom | H31: -100000 | I31: -100000 | J31: -100000 | K31: -100000 | L31: -100000 | M31: -100000 | N31: -100000 | O31: -100000 | P31: -100000 | Q31: -100000 | R31: -100000 | S31: -100000 | T31: =SUM(H31:S31) -> -1200000
C32: Shpenzime Mirembajtje | H32: =-SUMIFS(lv!D:D,lv!$B:$B,"615") -> 0 | I32: =-SUMIFS(lv!E:E,lv!$B:$B,"615") -> 0 | J32: =-SUMIFS(lv!F:F,lv!$B:$B,"615") -> 0 | K32: =-SUMIFS(lv!G:G,lv!$B:$B,"615") -> 0 | L32: =-SUMIFS(lv!H:H,lv!$B:$B,"615") -> 0 | M32: =-SUMIFS(lv!I:I,lv!$B:$B,"615") -> 0 | N32: =-SUMIFS(lv!J:J,lv!$B:$B,"615") -> 0 | O32: =-SUMIFS(lv!K:K,lv!$B:$B,"615") -> 0 | P32: =-SUMIFS(lv!L:L,lv!$B:$B,"615") -> 0 | T32: =SUM(H32:S32) -> 0 | V32: 2
C33: Shpenzime Sigurimi | H33: =-SUMIFS(lv!D:D,lv!$B:$B,"616") -> 0 | I33: =-SUMIFS(lv!E:E,lv!$B:$B,"616") -> 0 | J33: =-SUMIFS(lv!F:F,lv!$B:$B,"616") -> 0 | K33: =-SUMIFS(lv!G:G,lv!$B:$B,"616") -> -21070.14 | L33: =-SUMIFS(lv!H:H,lv!$B:$B,"616") -> 0 | M33: =-SUMIFS(lv!I:I,lv!$B:$B,"616") -> -2800 | N33: =-SUMIFS(lv!J:J,lv!$B:$B,"616") -> 0 | O33: =-SUMIFS(lv!K:K,lv!$B:$B,"616") -> 0 | P33: =-SUMIFS(lv!L:L,lv!$B:$B,"616") -> 0 | T33: =SUM(H33:S33) -> -23870.14
C34: Sherbime te Tjera | H34: =-SUMIFS(lv!D:D,lv!$B:$B,"618") -> -331552 | I34: =-SUMIFS(lv!E:E,lv!$B:$B,"618") -> -20000 | J34: =-SUMIFS(lv!F:F,lv!$B:$B,"618") -> -16180.3 | K34: =-SUMIFS(lv!G:G,lv!$B:$B,"618") -> -120683.07 | L34: =-SUMIFS(lv!H:H,lv!$B:$B,"618") -> 0 | M34: =-SUMIFS(lv!I:I,lv!$B:$B,"618") -> -219097 | N34: =-SUMIFS(lv!J:J,lv!$B:$B,"618") -> -274026.6 | O34: =-SUMIFS(lv!K:K,lv!$B:$B,"618") -> -129197 | P34: =-SUMIFS(lv!L:L,lv!$B:$B,"618") -> -44200 | Q34: -100000 | R34: -100000 | S34: -100000 | T34: =SUM(H34:S34) -> -1454936 | V34: 2
C35: Shpenzime Marketingu CP | H35: =-194.2*2.5*1.2*140 -> -81564 | I35: =-194.2*2.5*1.2*140 -> -81564 | J35: =-194.2*2.5*1.2*140 -> -81564 | K35: =-194.2*2.5*1.2*140 -> -81564 | L35: =-194.2*2.5*1.2*140 -> -81564 | M35: =-194.2*2.5*1.2*140 -> -81564 | N35: =-194.2*2.5*1.2*140 -> -81564 | O35: =-194.2*2.5*1.2*140 -> -81564 | P35: =-194.2*2.5*1.2*140 -> -81564 | T35: =SUM(H35:S35) -> -734076
C36: Shpenzime Marketingu BLLOK | H36: =-SUMIFS(lv!D:D,lv!$B:$B,"6240003")-SUMIFS(lv!D:D,lv!$B:$B,"6240004")-H35 -> -221550 | I36: =-SUMIFS(lv!E:E,lv!$B:$B,"6240003")-SUMIFS(lv!E:E,lv!$B:$B,"6240004")-I35 -> -125178.2 | J36: =-SUMIFS(lv!F:F,lv!$B:$B,"6240003")-SUMIFS(lv!F:F,lv!$B:$B,"6240004")-J35 -> -675700 | K36: =-SUMIFS(lv!G:G,lv!$B:$B,"6240003")-SUMIFS(lv!G:G,lv!$B:$B,"6240004")-K35 -> -613102.34 | L36: =-SUMIFS(lv!H:H,lv!$B:$B,"6240003")-SUMIFS(lv!H:H,lv!$B:$B,"6240004")-L35 -> -1175086.2 | M36: =-SUMIFS(lv!I:I,lv!$B:$B,"6240003")-SUMIFS(lv!I:I,lv!$B:$B,"6240004")-M35 -> -3719093.9 | N36: =-SUMIFS(lv!J:J,lv!$B:$B,"6240003")-SUMIFS(lv!J:J,lv!$B:$B,"6240004")-N35 -> -1502589.7 | O36: =-SUMIFS(lv!K:K,lv!$B:$B,"6240003")-SUMIFS(lv!K:K,lv!$B:$B,"6240004")-O35 -> -93167 | P36: =-SUMIFS(lv!L:L,lv!$B:$B,"6240003")-SUMIFS(lv!L:L,lv!$B:$B,"6240004")-P35 -> -457829 | Q36: -150000 | R36: -150000 | S36: -150000 | T36: =SUM(H36:S36) -> -9033296.4
C37: Shpenzime Udhetimi & Akomodimi | H37: =-SUMIFS(lv!D:D,lv!$B:$B,"625") -> 0 | I37: =-SUMIFS(lv!E:E,lv!$B:$B,"625") -> 0 | J37: =-SUMIFS(lv!F:F,lv!$B:$B,"625") -> 0 | K37: =-SUMIFS(lv!G:G,lv!$B:$B,"625") -> -40674 | L37: =-SUMIFS(lv!H:H,lv!$B:$B,"625") -> 0 | M37: =-SUMIFS(lv!I:I,lv!$B:$B,"625") -> 0 | N37: =-SUMIFS(lv!J:J,lv!$B:$B,"625") -> 0 | O37: =-SUMIFS(lv!K:K,lv!$B:$B,"625") -> 0 | P37: =-SUMIFS(lv!L:L,lv!$B:$B,"625") -> 0 | T37: =SUM(H37:S37) -> -40674
C38: Shpenzime Komunikimi dhe Postare | H38: =-SUMIFS(lv!D:D,lv!$B:$B,"6260001")-SUMIFS(lv!D:D,lv!$B:$B,"6260002")-SUMIFS(lv!D:D,lv!$B:$B,"6260003") -> 0 | I38: =-SUMIFS(lv!E:E,lv!$B:$B,"6260001")-SUMIFS(lv!E:E,lv!$B:$B,"6260002")-SUMIFS(lv!E:E,lv!$B:$B,"6260003") -> 0 | J38: =-SUMIFS(lv!F:F,lv!$B:$B,"6260001")-SUMIFS(lv!F:F,lv!$B:$B,"6260002")-SUMIFS(lv!F:F,lv!$B:$B,"6260003") -> -7866.67 | K38: =-SUMIFS(lv!G:G,lv!$B:$B,"6260001")-SUMIFS(lv!G:G,lv!$B:$B,"6260002")-SUMIFS(lv!G:G,lv!$B:$B,"6260003") -> -2500 | L38: =-SUMIFS(lv!H:H,lv!$B:$B,"6260001")-SUMIFS(lv!H:H,lv!$B:$B,"6260002")-SUMIFS(lv!H:H,lv!$B:$B,"6260003") -> -37148.46 | M38: =-SUMIFS(lv!I:I,lv!$B:$B,"6260001")-SUMIFS(lv!I:I,lv!$B:$B,"6260002")-SUMIFS(lv!I:I,lv!$B:$B,"6260003") -> -31450.84 | N38: =-SUMIFS(lv!J:J,lv!$B:$B,"6260001")-SUMIFS(lv!J:J,lv!$B:$B,"6260002")-SUMIFS(lv!J:J,lv!$B:$B,"6260003") -> -43438.52 | O38: =-SUMIFS(lv!K:K,lv!$B:$B,"6260001")-SUMIFS(lv!K:K,lv!$B:$B,"6260002")-SUMIFS(lv!K:K,lv!$B:$B,"6260003") -> -44123.2 | P38: =-SUMIFS(lv!L:L,lv!$B:$B,"6260001")-SUMIFS(lv!L:L,lv!$B:$B,"6260002")-SUMIFS(lv!L:L,lv!$B:$B,"6260003") -> -50980.79 | Q38: -13000 | R38: -13000 | S38: -13000 | T38: =SUM(H38:S38) -> -256508.48 | V38: 2
C39: Shpenzime Transporti | H39: =-SUMIFS(lv!D:D,lv!$B:$B,"6271") -> -156247 | I39: =-SUMIFS(lv!E:E,lv!$B:$B,"6271") -> 0 | J39: =-SUMIFS(lv!F:F,lv!$B:$B,"6271") -> -732915.8 | K39: =-SUMIFS(lv!G:G,lv!$B:$B,"6271") -> -630096 | L39: =-SUMIFS(lv!H:H,lv!$B:$B,"6271") -> -78160.2 | M39: =-SUMIFS(lv!I:I,lv!$B:$B,"6271") -> -347370.8 | N39: =-SUMIFS(lv!J:J,lv!$B:$B,"6271") -> -145684 | O39: =-SUMIFS(lv!K:K,lv!$B:$B,"6271") -> -144320 | P39: =-SUMIFS(lv!L:L,lv!$B:$B,"6271") -> -163920.3 | Q39: -250000 | R39: -250000 | S39: -250000 | T39: =SUM(H39:S39) -> -3148714.1 | V39: 2
C40: Shpenzime bankare | H40: =-SUMIFS(lv!D:D,lv!$B:$B,"628") -> -45754.69 | I40: =-SUMIFS(lv!E:E,lv!$B:$B,"628") -> -46651.06 | J40: =-SUMIFS(lv!F:F,lv!$B:$B,"628") -> -23605.8 | K40: =-SUMIFS(lv!G:G,lv!$B:$B,"628") -> -54888.07 | L40: =-SUMIFS(lv!H:H,lv!$B:$B,"628") -> -47610.57 | M40: =-SUMIFS(lv!I:I,lv!$B:$B,"628") -> -86264.15 | N40: =-SUMIFS(lv!J:J,lv!$B:$B,"628") -> -49375.74 | O40: =-SUMIFS(lv!K:K,lv!$B:$B,"628") -> -14524.96 | P40: =-SUMIFS(lv!L:L,lv!$B:$B,"628") -> 0 | Q40: -50000 | R40: -50000 | S40: -50000 | T40: =SUM(H40:S40) -> -518675.04
C41: Akcize | T41: =SUM(H41:S41) -> 0
C42: Takse doganore | H42: =-SUMIFS(lv!D:D,lv!$B:$B,"6320001") -> -10054.1 | I42: =-SUMIFS(lv!E:E,lv!$B:$B,"6320001") -> 0 | J42: =-SUMIFS(lv!F:F,lv!$B:$B,"6320001") -> 0 | K42: =-SUMIFS(lv!G:G,lv!$B:$B,"6320001") -> 0 | L42: =-SUMIFS(lv!H:H,lv!$B:$B,"6320001") -> 0 | M42: =-SUMIFS(lv!I:I,lv!$B:$B,"6320001") -> 0 | N42: =-SUMIFS(lv!J:J,lv!$B:$B,"6320001") -> 0 | O42: =-SUMIFS(lv!K:K,lv!$B:$B,"6320001") -> 0 | P42: =-SUMIFS(lv!L:L,lv!$B:$B,"6320001") -> 0 | T42: =SUM(H42:S42) -> -10054.1
C43: Taksa e tarifa vendore | H43: =-SUMIFS(lv!D:D,lv!$B:$B,"634") -> 0 | I43: =-SUMIFS(lv!E:E,lv!$B:$B,"634") -> 0 | J43: =-SUMIFS(lv!F:F,lv!$B:$B,"634") -> -45000 | K43: =-SUMIFS(lv!G:G,lv!$B:$B,"634") -> 0 | L43: =-SUMIFS(lv!H:H,lv!$B:$B,"634") -> 0 | M43: =-SUMIFS(lv!I:I,lv!$B:$B,"634") -> 0 | N43: =-SUMIFS(lv!J:J,lv!$B:$B,"634") -> 0 | O43: =-SUMIFS(lv!K:K,lv!$B:$B,"634") -> 0 | P43: =-SUMIFS(lv!L:L,lv!$B:$B,"634") -> 0 | T43: =SUM(H43:S43) -> -45000
C44: Te tjera Tatime e Taksa | H44: =-SUMIFS(lv!D:D,lv!$B:$B,"638") -> -10295 | I44: =-SUMIFS(lv!E:E,lv!$B:$B,"638") -> -8978 | J44: =-SUMIFS(lv!F:F,lv!$B:$B,"638") -> -10297 | K44: =-SUMIFS(lv!G:G,lv!$B:$B,"638") -> -5967 | L44: =-SUMIFS(lv!H:H,lv!$B:$B,"638") -> -6766 | M44: =-SUMIFS(lv!I:I,lv!$B:$B,"638") -> -7271 | N44: =-SUMIFS(lv!J:J,lv!$B:$B,"638") -> -2917 | O44: =-SUMIFS(lv!K:K,lv!$B:$B,"638") -> -8769 | P44: =-SUMIFS(lv!L:L,lv!$B:$B,"638") -> -5874 | Q44: =-SUMIFS(lv!M:M,lv!$B:$B,"638") -> 0 | R44: =-SUMIFS(lv!N:N,lv!$B:$B,"638") -> 0 | S44: =-SUMIFS(lv!O:O,lv!$B:$B,"638") -> 0 | T44: =SUM(H44:S44) -> -67134
C45: Personel paga | H45: =-SUMIFS(lv!D:D,lv!$B:$B,"641") -> -817345 | I45: =-SUMIFS(lv!E:E,lv!$B:$B,"641") -> -859239 | J45: =-SUMIFS(lv!F:F,lv!$B:$B,"641") -> -749009 | K45: =-SUMIFS(lv!G:G,lv!$B:$B,"641") -> -746011 | L45: =-SUMIFS(lv!H:H,lv!$B:$B,"641") -> -842110 | M45: =-SUMIFS(lv!I:I,lv!$B:$B,"641") -> -853705 | N45: =-SUMIFS(lv!J:J,lv!$B:$B,"641") -> -797884 | O45: =-SUMIFS(lv!K:K,lv!$B:$B,"641") -> -819196 | P45: =-SUMIFS(lv!L:L,lv!$B:$B,"641") -> -754746 | Q45: -900000 | R45: -900000 | S45: -900000 | T45: =SUM(H45:S45) -> -9939245
...

Sheet CashFlow
B2: Cash Flow Statement
C4: For the Year Ending | E4: 42735
C5: Cash at Beginning of Period | E5: 562919.86 | F5: =+E41 -> -11024500 | G5: =+F41 -> -20831941 | H5: =+G41 -> -22846101 | I5: =+H41 -> -31364598 | J5: =+I41 -> -42013215 | K5: =+J41 -> -32810541 | L5: =+K41 -> -45774242 | M5: =+L41 -> -37899546 | ... P5: =+O41 -> -18988417
B7: Operations | E7: 42736 | F7: 42767 | G7: 42795 | H7: 42826 | I7: 42856 | J7: 42887 | K7: 42917 | L7: 42948 | M7: 42979 | N7: 43009 | O7: 43040 | P7: 43070
B8: Cash receipts from customers | E8: =+'P&L'!H14*1.2 -> 4509492.4 | F8: =+'P&L'!I14*1.2 -> 5360073.9 | G8: =+'P&L'!J14*1.2 -> 3892944 | H8: =+'P&L'!K14*1.2 -> 2051187.2 | I8: =+'P&L'!L14*1.2 -> 3662333.1 | J8: =+'P&L'!M14*1.2 -> 18216190 | K8: =+'P&L'!N14*1.2 -> 5768653.2 | L8: =+'P&L'!O14*1.2 -> 17575507 | ... P8: =+'P&L'!S14*1.2 -> 42000000
B9: Cash paid for
C10: Inventory purchases | E10: =-Inventories!E9*1.2 -> -15920183 | F10: =-Inventories!F9*1.2 -> -48070741 | G10: =-Inventories!G9*1.2 -> -2535619.2 | H10: =-Inventories!H9*1.2 -> -16833066 | I10: =-Inventories!I9*1.2 -> -5539992.1 | J10: =-Inventories!J9*1.2 -> -7843312.7 | K10: =-Inventories!K9*1.2 -> -1801850.4 | L10: =-Inventories!L9*1.2 -> -4186045.7 | ... P10: =-Inventories!P9*1.2 -> -16200000
C11: General operating and administrative expenses | E11: =+'P&L'!H54-'P&L'!H45-'P&L'!H46-'P&L'!H51 -> -2021711.7 | F11: =+'P&L'!I54-'P&L'!I45-'P&L'!I46-'P&L'!I51 -> -796859.77 | G11: =+'P&L'!J54-'P&L'!J45-'P&L'!J46-'P&L'!J51 -> -3253592.3 | H11: =+'P&L'!K54-'P&L'!K45-'P&L'!K46-'P&L'!K51 -> -4114124.3 | I11: =+'P&L'!L54-'P&L'!L45-'P&L'!L46-'P&L'!L51 -> -3033023.1 | J11: =+'P&L'!M54-'P&L'!M45-'P&L'!M46-'P&L'!M51 -> -6831737.5 | K11: =+'P&L'!N54-'P&L'!N45-'P&L'!N46-'P&L'!N51 -> -3352725.5 | L11: =+'P&L'!O54-'P&L'!O45-'P&L'!O46-'P&L'!O51 -> -1679916.1 | ... P11: =+'P&L'!S54-'P&L'!S45-'P&L'!S46-'P&L'!S51 -> -1575500
C12: Wage expenses | E12: =+'P&L'!H45+'P&L'!H46 -> -940046 | F12: =+'P&L'!I45+'P&L'!I46 -> -988943 | G12: =+'P&L'!J45+'P&L'!J46 -> -860304 | H12: =+'P&L'!K45+'P&L'!K46 -> -856800 | I12: =+'P&L'!L45+'P&L'!L46 -> -970103 | J12: =+'P&L'!M45+'P&L'!M46 -> -983634 | K12: =+'P&L'!N45+'P&L'!N46 -> -931131 | L12: =+'P&L'!O45+'P&L'!O46 -> -956002 | ... P12: =+'P&L'!S45+'P&L'!S46 -> -1050300
C13: Interest
C14: Income taxes | E14: -90501 | F14: -90501 | G14: -90501 | H14: -118867 | I14: -118867 | J14: -118867 | K14: -118867 | L14: -118867 | M14: -118867 | N14: -118867 | O14: -118867 | P14: -118867
B15: Net Cash Flow from Operations | E15: =SUM(E8:E14) -> -14462950 | F15: =SUM(F8:F14) -> -44586970 | G15: =SUM(G8:G14) -> -2847072.5 | H15: =SUM(H8:H14) -> -19871670 | I15: =SUM(I8:I14) -> -5999652 | J15: =SUM(J8:J14) -> 2438638.7 | K15: =SUM(K8:K14) -> -435920.59 | L15: =SUM(L8:L14) -> 10634676 | ... P15: =SUM(P8:P14) -> 23055333
A17: [42] | B17: Investing Activities
B18: Cash receipts from
C19: Sale of property and equipment | E19: 0.001 | R19: 2
C20: Collection of principal on loans
C21: Sale of investment securities | E21: 0.001
B22: Cash paid for
C23: Purchase of property and equipment | E23: =-lv!D2-lv!D4-lv!D5-lv!D6 -> -116450 | F23: =-lv!E2-lv!E4-lv!E5-lv!E6 -> -89640 | G23: =-lv!F2-lv!F4-lv!F5-lv!F6 -> -436262.28 | H23: =-lv!G2-lv!G4-lv!G5-lv!G6 -> -39916.67 | R23: 2
C24: Making loans to other entities
C25: Purchase of investment securities
B26: Net Cash Flow from Investing Activities | E26: =SUM(E18:E25) -> -116450 | F26: =SUM(F18:F25) -> -89640 | G26: =SUM(G18:G25) -> -436262.28 | H26: =SUM(H18:H25) -> -39916.67 | I26: =SUM(I18:I25) -> 0 | J26: =SUM(J18:J25) -> 0 | K26: =SUM(K18:K25) -> 0 | L26: =SUM(L18:L25) -> 0 | ... P26: =SUM(P18:P25) -> 0
B27: [42]
B28: Financing Activities
B29: Cash receipts from
C30: Issuance of stock | E30: =-lv!D10 -> 1941979.8 | F30: =-lv!E10 -> 33819170 | G30: =-lv!F10 -> 219174.46 | H30: =-lv!G10 -> 10343090 | I30: =-lv!H10 -> -5698965.1 | J30: =-lv!I10 -> 6714035.4 | K30: =-lv!J10 -> -8577780.5 | L30: =-lv!K10 -> 1190019.9 | M30: =-lv!L10 -> 3628788.6
C31: Clients
C32: Borrowing | E32: 5000000 | F32: 5000000 | G32: 5000000 | H32: 5000000 | I32: 5000000 | J32: 4000000 | N32: 10000000
B33: Cash paid for
C34: Suppliers | E34: -3500000 | F34: -3500000 | G34: -3500000 | H34: -3500000 | I34: -3500000 | J34: -3500000 | K34: -3500000 | L34: -3500000 | M34: -3500000 | N34: -3500000 | O34: -3500000 | P34: -3500000
C35: Repayment of loans | E35: -450000 | F35: -450000 | G35: -450000 | H35: -450000 | I35: -450000 | J35: -450000 | K35: -450000 | L35: -450000 | M35: -450000 | N35: -450000 | O35: -450000 | P35: -450000
C36: Dividends
B37: Net Cash Flow from Financing Activities | E37: =SUM(E29:E36) -> 2991979.8 | F37: =SUM(F29:F36) -> 34869170 | G37: =SUM(G29:G36) -> 1269174.5 | H37: =SUM(H29:H36) -> 11393090 | I37: =SUM(I29:I36) -> -4648965.1 | J37: =SUM(J29:J36) -> 6764035.4 | K37: =SUM(K29:K36) -> -12527780 | L37: =SUM(L29:L36) -> -2759980.1 | ... P37: =SUM(P29:P36) -> -3950000
B39: Net Increase in Cash | E39: =E15+E26+E37 -> -11587420 | F39: =F15+F26+F37 -> -9807440.9 | G39: =G15+G26+G37 -> -2014160.3 | H39: =H15+H26+H37 -> -8518496.8 | I39: =I15+I26+I37 -> -10648617 | J39: =J15+J26+J37 -> 9202674.1 | K39: =K15+K26+K37 -> -12963701 | L39: =L15+L26+L37 -> 7874695.9 | ... P39: =P15+P26+P37 -> 19105333
C41: Cash at End of Period | E41: =E5+E39 -> -11024500 | F41: =F5+F39 -> -20831941 | G41: =G5+G39 -> -22846101 | H41: =H5+H39 -> -31364598 | I41: =I5+I39 -> -42013215 | J41: =J5+J39 -> -32810541 | K41: =K5+K39 -> -45774242 | L41: =L5+L39 -> -37899546 | ... P41: =P5+P39 -> 116915.98
B42: {42}
B43: (Financim) / Terheqje | E43: =+IF(E41<0,E41,"NO") -> -11024500 | F43: =+IF(F41<0,F41,"NO") -> -20831941 | G43: =+IF(G41<0,G41,"NO") -> -22846101 | H43: =+IF(H41<0,H41,"NO") -> -31364598 | I43: =+IF(I41<0,I41,"NO") -> -42013215 | J43: =+IF(J41<0,J41,"NO") -> -32810541 | K43: =+IF(K41<0,K41,"NO") -> -45774242 | L43: =+IF(L41<0,L41,"NO") -> -37899546 | ... O43: =+IF(O41<0,O41,"NO") -> -18988417 | P43: =+P41 -> 116915.98
C45: Furnitore | D45: BoP | E45: -60133485
E46: =-E30 -> -1941979.8 | F46: =-F30 -> -33819170 | G46: =-G30 -> -219174.46 | H46: =-H30 -> -10343090 | I46: =-I30 -> 5698965.1 | J46: =-J30 -> -6714035.4 | K46: =-K30 -> 8577780.5 | L46: =-L30 -> -1190019.9 | ... P46: =-P30 -> 0
D47: EoP | P47: =+E45+SUM(E46:P46) -> -1.03713e+08 | R47: rritje e borxhit ndaj furnitoreve 43 mln | U47: 28 mln
...

Sheet Inventories
B2: Inventories
B3: In LEK | R3: VAT code
C4: For the Year Ending | E4: 42735
C5: Inventories at Beginning of Period | E5: 1.2094933e+08 | F5: =+E13 -> 1.3212831e+08 | G5: =+F13 -> 1.7133875e+08 | H5: =+G13 -> 1.7240219e+08 | I5: =+H13 -> 1.8627905e+08 | J5: =+I13 -> 1.8967996e+08 | K5: =+J13 -> 1.8600935e+08 | L5: =+K13 -> 1.8541094e+08 | M5: =+L13 -> 1.7829229e+08 | ... P5: =+O13 -> 1.7990924e+08
B7: Inventories | E7: 42736 | F7: 42767 | G7: 42795 | H7: 42826 | I7: 42856 | J7: 42887 | K7: 42917 | L7: 42948 | M7: 42979 | N7: 43009 | O7: 43040 | P7: 43070
C8: Beginning inventory
C9: Purchases | E9: =+lv!D58+lv!D62 -> 13266819 | F9: =+lv!E58+lv!E62 -> 40058951 | G9: =+lv!F58+lv!F62 -> 2113016 | H9: =+lv!G58+lv!G62 -> 14027555 | I9: =+lv!H58+lv!H62 -> 4616660 | J9: =+lv!I58+lv!I62 -> 6536093.9 | K9: =+lv!J58+lv!J62 -> 1501542 | L9: =+lv!K58+lv!K62 -> 3488371.4 | M9: =+lv!L58+lv!L62 -> 1859705.2 | N9: 13500000 | O9: 13500000 | P9: 13500000 | R9: 2
C10: Freight
C11: Direct labor | E11: =+'P&L'!H17+'P&L'!H19 -> -2087840 | F11: =+'P&L'!I17+'P&L'!I19 -> -848514.86 | G11: =+'P&L'!J17+'P&L'!J19 -> -1049573.1 | H11: =+'P&L'!K17+'P&L'!K19 -> -150692.59 | I11: =+'P&L'!L17+'P&L'!L19 -> -1215753.4 | J11: =+'P&L'!M17+'P&L'!M19 -> -10206708 | K11: =+'P&L'!N17+'P&L'!N19 -> -2099952.5 | L11: =+'P&L'!O17+'P&L'!O19 -> -10607020 | ... P11: =+'P&L'!S17+'P&L'!S19 -> -23600000
C12: Indirect expenses
B13: Inventories at End of Period | E13: =+E5+SUM(E8:E12) -> 1.3212831e+08 | F13: =+F5+SUM(F8:F12) -> 1.7133875e+08 | G13: =+G5+SUM(G8:G12) -> 1.7240219e+08 | H13: =+H5+SUM(H8:H12) -> 1.8627905e+08 | I13: =+I5+SUM(I8:I12) -> 1.8967996e+08 | J13: =+J5+SUM(J8:J12) -> 1.8600935e+08 | K13: =+K5+SUM(K8:K12) -> 1.8541094e+08 | L13: =+L5+SUM(L8:L12) -> 1.7829229e+08 | ... P13: =+P5+SUM(P8:P12) -> 1.6980924e+08
B19: In EUR
C20: For the Year Ending | E20: =+E4 -> 42735
C21: Inventories at Beginning of Period | E21: =+E5/140 -> 863923.81 | F21: =+E29 -> 943773.66 | G21: =+F29 -> 1223848.2 | H21: =+G29 -> 1231444.2 | I21: =+H29 -> 1330564.7 | J21: =+I29 -> 1354856.9 | K21: =+J29 -> 1328638.2 | L21: =+K29 -> 1324363.8 | M21: =+L29 -> 1273516.3 | ... P21: =+O29 -> 1285066
B23: Inventories | E23: =+E7 -> 42736 | F23: =+F7 -> 42767 | G23: =+G7 -> 42795 | H23: =+H7 -> 42826 | I23: =+I7 -> 42856 | J23: =+J7 -> 42887 | K23: =+K7 -> 42917 | L23: =+L7 -> 42948 | ... P23: =+P7 -> 43070
C24: Beginning inventory
C25: Purchases | E25: =+E9/140 -> 94762.996 | F25: =+F9/140 -> 286135.36 | G25: =+G9/140 -> 15092.971 | H25: =+H9/140 -> 100196.82 | I25: =+I9/140 -> 32976.143 | J25: =+J9/140 -> 46686.385 | K25: =+K9/140 -> 10725.3 | L25: =+L9/140 -> 24916.939 | ... P25: =+P9/140 -> 96428.571
C26: Freight
C27: Direct labor | E27: =+E11/140 -> -14913.143 | F27: =+F11/140 -> -6060.8204 | G27: =+G11/140 -> -7496.9505 | H27: =+H11/140 -> -1076.3756 | I27: =+I11/140 -> -8683.9528 | J27: =+J11/140 -> -72905.056 | K27: =+K11/140 -> -14999.661 | L27: =+L11/140 -> -75764.431 | ... P27: =+P11/140 -> -168571.43
C28: Indirect expenses
B29: Inventories at End of Period | E29: =+E21+SUM(E24:E28) -> 943773.66 | F29: =+F21+SUM(F24:F28) -> 1223848.2 | G29: =+G21+SUM(G24:G28) -> 1231444.2 | H29: =+H21+SUM(H24:H28) -> 1330564.7 | I29: =+I21+SUM(I24:I28) -> 1354856.9 | J29: =+J21+SUM(J24:J28) -> 1328638.2 | K29: =+K21+SUM(K24:K28) -> 1324363.8 | L29: =+L21+SUM(L24:L28) -> 1273516.3 | ... P29: =+P21+SUM(P24:P28) -> 1212923.1
E31: =+SUM(E25:J25) -> 575850.68 | K31: =+SUM(K25:P25) -> 338211.56

Sheet VAT
B2: VAT
C4: For the Year Ending | E4: 42735
C5: VAT at Beginning of Period | E5: 8791022.7 | F5: =+IF(E14>0,E14,0) -> 10898124 | G5: =+IF(F14>0,F14,0) -> 17982645 | H5: =+IF(G14>0,G14,0) -> 18181478 | I5: =+IF(H14>0,H14,0) -> 21029601 | J5: =+IF(I14>0,I14,0) -> 21520582 | K5: =+IF(J14>0,J14,0) -> 20118476 | L5: =+IF(K14>0,K14,0) -> 19628930 | M5: =+IF(L14>0,L14,0) -> 17564474 | ... P5: =+IF(O14>0,O14,0) -> 13698238
B7: Inventories | E7: 42736 | F7: 42767 | G7: 42795 | H7: 42826 | I7: 42856 | J7: 42887 | K7: 42917 | L7: 42948 | M7: 42979 | N7: 43009 | O7: 43040 | P7: 43070
C8: Purchases | E8: =-('P&L'!H24+'P&L'!H25+'P&L'!H26+'P&L'!H27+'P&L'!H28+'P&L'!H29+'P&L'!H34+'P&L'!H38+'P&L'!H39)*0.2 -> 182029.07 | F8: =-('P&L'!I24+'P&L'!I25+'P&L'!I26+'P&L'!I27+'P&L'!I28+'P&L'!I29+'P&L'!I34+'P&L'!I38+'P&L'!I39)*0.2 -> -51851.449 | G8: =-('P&L'!J24+'P&L'!J25+'P&L'!J26+'P&L'!J27+'P&L'!J28+'P&L'!J29+'P&L'!J34+'P&L'!J38+'P&L'!J39)*0.2 -> 337801.97 | H8: =-('P&L'!K24+'P&L'!K25+'P&L'!K26+'P&L'!K27+'P&L'!K28+'P&L'!K29+'P&L'!K34+'P&L'!K38+'P&L'!K39)*0.2 -> 376492.53 | I8: =-('P&L'!L24+'P&L'!L25+'P&L'!L26+'P&L'!L27+'P&L'!L28+'P&L'!L29+'P&L'!L34+'P&L'!L38+'P&L'!L39)*0.2 -> 178038.6 | J8: =-('P&L'!M24+'P&L'!M25+'P&L'!M26+'P&L'!M27+'P&L'!M28+'P&L'!M29+'P&L'!M34+'P&L'!M38+'P&L'!M39)*0.2 -> 326706.89 | K8: =-('P&L'!N24+'P&L'!N25+'P&L'!N26+'P&L'!N27+'P&L'!N28+'P&L'!N29+'P&L'!N34+'P&L'!N38+'P&L'!N39)*0.2 -> 171587.09 | L8: =-('P&L'!O24+'P&L'!O25+'P&L'!O26+'P&L'!O27+'P&L'!O28+'P&L'!O29+'P&L'!O34+'P&L'!O38+'P&L'!O39)*0.2 -> 167121.06 | ... P8: =-('P&L'!S24+'P&L'!S25+'P&L'!S26+'P&L'!S27+'P&L'!S28+'P&L'!S29+'P&L'!S34+'P&L'!S38+'P&L'!S39)*0.2 -> 122600
C9: Inventories | E9: =+Inventories!E9*0.2 -> 2653363.9 | F9: =+Inventories!F9*0.2 -> 8011790.1 | G9: =+Inventories!G9*0.2 -> 422603.2 | H9: =+Inventories!H9*0.2 -> 2805511 | I9: =+Inventories!I9*0.2 -> 923332.01 | J9: =+Inventories!J9*0.2 -> 1307218.8 | K9: =+Inventories!K9*0.2 -> 300308.39 | L9: =+Inventories!L9*0.2 -> 697674.28 | ... P9: =+Inventories!P9*0.2 -> 2700000
C10: Other | E10: =-CashFlow!E23*0.2 -> 23290 | F10: =-CashFlow!F23*0.2 -> 17928 | G10: =-CashFlow!G23*0.2 -> 87252.455 | H10: =-CashFlow!H23*0.2 -> 7983.334 | I10: =-CashFlow!I23*0.2 -> 0 | J10: =-CashFlow!J23*0.2 -> 0 | K10: =-CashFlow!K23*0.2 -> 0 | L10: =-CashFlow!L23*0.2 -> 0 | ... P10: =-CashFlow!P23*0.2 -> 0
C12: Sales | E12: =-'P&L'!H14*0.2 -> -751582.07 | F12: =-'P&L'!I14*0.2 -> -893345.66 | G12: =-'P&L'!J14*0.2 -> -648824 | H12: =-'P&L'!K14*0.2 -> -341864.54 | I12: =-'P&L'!L14*0.2 -> -610388.85 | J12: =-'P&L'!M14*0.2 -> -3036031.7 | K12: =-'P&L'!N14*0.2 -> -961442.21 | L12: =-'P&L'!O14*0.2 -> -2929251.1 | ... P12: =-'P&L'!S14*0.2 -> -7000000
C13: Other
B14: VAT at End of Period | E14: =+E5+SUM(E8:E13) -> 10898124 | F14: =+F5+SUM(F8:F13) -> 17982645 | G14: =+G5+SUM(G8:G13) -> 18181478 | H14: =+H5+SUM(H8:H13) -> 21029601 | I14: =+I5+SUM(I8:I13) -> 21520582 | J14: =+J5+SUM(J8:J13) -> 20118476 | K14: =+K5+SUM(K8:K13) -> 19628930 | L14: =+L5+SUM(L8:L13) -> 17564474 | ... P14: =+P5+SUM(P8:P13) -> 9520837.8
B16: Pagese TVSH | E16: =+IF(E14<0,E14,"NO") -> NO | F16: =+IF(F14<0,F14,"NO") -> NO | G16: =+IF(G14<0,G14,"NO") -> NO | H16: =+IF(H14<0,H14,"NO") -> NO | I16: =+IF(I14<0,I14,"NO") -> NO | J16: =+IF(J14<0,J14,"NO") -> NO | K16: =+IF(K14<0,K14,"NO") -> NO | L16: =+IF(L14<0,L14,"NO") -> NO | ... P16: =+IF(P14<0,P14,"NO") -> NO

Sheet dividenti
AB1: 0.1 | AC1: 0.05
A2: nr.rn. | B2: subjekti | C2: nipt | D2: forma | E2: tatimi | G2: vendimi i asambese se ortakeve | H2: pf te skanuara | I2: depozitimi ne tatime | J2: depozitimi ne qkr | K2: e-albania individ | L2: pass | M2: e-albania biznes | N2: pass | P2: shenime | R2: 2009 | S2: 2010 | T2: 2011 | U2: 2012 | V2: 2013 | W2: 2014 | X2: 2015 | Y2: 2016 | Z2: tot | AB2: rezerva ligjore | AC2: rezerva statutore | AD2: investime afatgjata | AE2: divident | AF2: kapitali themeltar | AG2: rritje kapitali | AH2: aam | AI2: tatim
A3: 16 | B3: PRESTIGE HOME | C3: L12325013U | D3: shpk | E3: tatim fitimi | G3: OK | H3: OK | I3: OK | J3: OK | K3: H55120081F | L3: Circle99 | M3: L12325013U | N3: Circle99 | T3: -627378 | U3: -1854537.2 | V3: 5231898.8 | W3: 2034738.9 | X3: 5284745.5 | Y3: 7327015.9 | Z3: =SUM(R3:Y3) -> 17396484 | AE3: =+SUM(T3:X3) -> 10069468 | AF3: 1000000 | AH3: 5977787 | AI3: =+AE3*0.15 -> 1510420.2 | AJ3: nuk shperndajne divident

Sheet lv
A1: PERSHKRIMLLOG1 | B1: LLOGARIPK | C1: PERSHKRIMPK | D1: M01 | E1: M02 | F1: M03 | G1: M04 | H1: M05 | I1: M06 | J1: M07 | K1: M08 | L1: M09 | M1: M10 | N1: M11 | O1: M12
B2: 2126 | C2: vepra infrastrukture | D2: 0 | E2: 0 | F2: 215520.14 | G2: 0 | H2: 0 | I2: 0 | J2: 0 | K2: 0 | L2: 0 | M2: 0 | N2: 0 | O2: 0
B3: 215 | C3: Mjete transporti | D3: 0 | E3: 0 | F3: 0 | G3: 0 | H3: 0 | I3: 1099456.2 | J3: 0 | K3: 0 | L3: 0 | M3: 0 | N3: 0 | O3: 0
B4: 2181 | C4: Mobilje dhe pajisje zyre | D4: 0 | E4: 0 | F4: 23331.68 | G4: 0 | H4: 0 | I4: 103000 | J4: 0 | K4: 0 | L4: 60999.99 | M4: 0 | N4: 0 | O4: 0
B5: 2182 | C5: Pajisje informative | D5: 116450 | E5: 18600 | F5: 168500 | G5: 0 | H5: 0 | I5: 81700 | J5: 20800 | K5: 0 | L5: 12700 | M5: 0 | N5: 0 | O5: 0
B6: 2188 | C6: Te tjera | D6: 0 | E6: 71040 | F6: 28910.455 | G6: 39916.67 | H6: 26583.34 | I6: 0 | J6: 0 | K6: 91440.16 | L6: 12000 | M6: 0 | N6: 0 | O6: 0
B7: 311 | C7: Materiale te para | D7: 1784.71 | E7: -85237.52 | F7: 63361.37 | G7: -95460.42 | H7: -10057.02 | I7: 79165.74 | J7: 0 | K7: 149138.16 | L7: -163548.69 | M7: 0 | N7: 0 | O7: 0
B8: 351 | C8: Mallra grupi I | D8: 11118321 | E8: 39295673 | F8: 1000081.6 | G8: 13666707 | H8: 3410963.7 | I8: -3749779.7 | J8: -598410.52 | K8: -7267787.1 | L8: -3519503 | M8: 0 | N8: 0 | O8: 0
B9: 375 | C9: Mallra (dhe produkte)per shitje | D9: 58873.14 | E9: 0 | F9: 0 | G9: 0 | H9: 0 | I9: 0 | J9: 0 | K9: 0 | L9: 0 | M9: 0 | N9: 0 | O9: 0
B10: 401 | C10: Furnitore per mallra , produkte e sherbime | D10: -1941979.8 | E10: -33819170 | F10: -219174.46 | G10: -10343090 | H10: 5698965.1 | I10: -6714035.4 | J10: 8577780.5 | K10: -1190019.9 | L10: -3628788.6 | M10: 0 | N10: 0 | O10: 0
B11: 411 | C11: Kliente per mallra , produkte e sherbime | D11: 450661.62 | E11: 1102769.1 | F11: -20239.89 | G11: 455542.17 | H11: -12586059 | I11: 11251110 | J11: 3455137.4 | K11: 11698485 | L11: 10603446 | M11: 0 | N11: 0 | O11: 0
B12: 418 | C12: Parapagime te dhena | D12: -226500.45 | E12: 0 | F12: 0 | G12: 0 | H12: 0 | I12: 0 | J12: 0 | K12: 0 | L12: 0 | M12: 0 | N12: 0 | O12: 0
B13: 421 | C13: Paga e shperblime | D13: -704226 | E13: -51768 | F13: 262308 | G13: -27338 | H13: -86074 | I13: -9719 | J13: 36359 | K13: -11426 | L13: -655913 | M13: 0 | N13: 0 | O13: 0
... B103: 792 | C103: Zbritje ne Shitje | D103: 223172.33 | E103: 173376.42 | F103: 458705.28 | G103: 142389.23 | H103: 557050.1 | I103: 36164.4 | J103: 340988.04 | K103: 632348.93 | L103: 598266.67 | M103: 0 | N103: 0 | O103: 0
C105: shpenzimet | D105: =-SUM(D58:D96) -> -5049597.8 | E105: =-SUM(E58:E96) -> -2634317.6 | F105: =-SUM(F58:F96) -> -5163469.4 | G105: =-SUM(G58:G96) -> -5121616.9 | H105: =-SUM(H58:H96) -> -5218879.5 | I105: =-SUM(I58:I96) -> -18022079 | J105: =-SUM(J58:J96) -> -6383808.9 | K105: =-SUM(K58:K96) -> -13242938 | ... O105: =-SUM(O58:O96) -> 0
C106: shp P&L | D106: =+'P&L'!H17+'P&L'!H19+'P&L'!H54 -> -5189597.8 | E106: =+'P&L'!I17+'P&L'!I19+'P&L'!I54 -> -2774317.6 | F106: =+'P&L'!J17+'P&L'!J19+'P&L'!J54 -> -5303469.4 | G106: =+'P&L'!K17+'P&L'!K19+'P&L'!K54 -> -5261616.9 | H106: =+'P&L'!L17+'P&L'!L19+'P&L'!L54 -> -5358879.5 | I106: =+'P&L'!M17+'P&L'!M19+'P&L'!M54 -> -18162079 | J106: =+'P&L'!N17+'P&L'!N19+'P&L'!N54 -> -6523808.9 | K106: =+'P&L'!O17+'P&L'!O19+'P&L'!O54 -> -13382938 | ... O106: =+'P&L'!S17+'P&L'!S19+'P&L'!S54 -> -26365800
C107: ndryshimi | D107: =+D105-D106 -> 140000 | E107: =+E105-E106 -> 140000 | F107: =+F105-F106 -> 140000 | G107: =+G105-G106 -> 140000 | H107: =+H105-H106 -> 140000 | I107: =+I105-I106 -> 140000 | J107: =+J105-J106 -> 140000 | K107: =+K105-K106 -> 140000 | ... O107: =+O105-O106 -> 26365800
C109: te ardhurat | D109: =-SUM(D97:D103) -> 3757910.4 | E109: =-SUM(E97:E103) -> 4466728.3 | F109: =-SUM(F97:F103) -> 3244120 | G109: =-SUM(G97:G103) -> 1709322.7 | H109: =-SUM(H97:H103) -> 3051944.2 | I109: =-SUM(I97:I103) -> 15180158 | J109: =-SUM(J97:J103) -> 4807211 | K109: =-SUM(K97:K103) -> 14646256 | ... O109: =-SUM(O97:O103) -> 0
C110: te ardh P&L | D110: =+'P&L'!H14 -> 3757910.4 | E110: =+'P&L'!I14 -> 4466728.3 | F110: =+'P&L'!J14 -> 3244120 | G110: =+'P&L'!K14 -> 1709322.7 | H110: =+'P&L'!L14 -> 3051944.2 | I110: =+'P&L'!M14 -> 15180158 | J110: =+'P&L'!N14 -> 4807211 | K110: =+'P&L'!O14 -> 14646256 | ... O110: =+'P&L'!S14 -> 35000000
C111: ndryshimi | D111: =+D109-D110 -> 0 | E111: =+E109-E110 -> 0 | F111: =+F109-F110 -> 0 | G111: =+G109-G110 -> 0 | H111: =+H109-H110 -> 0 | I111: =+I109-I110 -> 0 | J111: =+J109-J110 -> 0 | K111: =+K109-K110 -> 0 | ... O111: =+O109-O110 -> -35000000
