Workbook

Sheet P&L
B2: Te Ardhura & Shpenzime | H2: 2017 | V2: VAT code
H3: Janar | I3: Shkurt | J3: Mars | K3: Prill | L3: Maj | M3: Qershor | N3: Korrik | O3: Gusht | P3: Shtator | Q3: Tetor | R3: Nentor | S3: Dhjetor | T3: Totali
B5: Te Ardhura
C6: Shitje e AA | T6: =SUM(H6:S6) -> 0
C7: Te Ardhura nga Sherbimet | T7: =SUM(H7:S7) -> 0
C8: Shitje e Mallrave | H8: =-SUMIFS(lv!D:D,lv!$B:$B,"705") -> 1724242.5 | I8: =-SUMIFS(lv!E:E,lv!$B:$B,"705") -> 1329283.3 | J8: =-SUMIFS(lv!F:F,lv!$B:$B,"705") -> 2618875 | K8: =-SUMIFS(lv!G:G,lv!$B:$B,"705") -> 1086030 | L8: =-SUMIFS(lv!H:H,lv!$B:$B,"705") -> 3170796.7 | M8: =-SUMIFS(lv!I:I,lv!$B:$B,"705") -> 2749163.3 | N8: =-SUMIFS(lv!J:J,lv!$B:$B,"705") -> 2673691.7 | O8: =-SUMIFS(lv!K:K,lv!$B:$B,"705") -> 2765305 | P8: =-SUMIFS(lv!L:L,lv!$B:$B,"705") -> 2286983.3 | Q8: 2500000 | R8: 2500000 | S8: 2500000 | T8: =SUM(H8:S8) -> 27904371 | V8: 2
C9: Shitje e Mallrave me Shumice | T9: =SUM(H9:S9) -> 0 | V9: 2
C10: Te ardhura nga qiraja | H10: =-SUMIFS(lv!D:D,lv!$B:$B,"7080001") -> 247427 | I10: =-SUMIFS(lv!E:E,lv!$B:$B,"7080001") -> 244350 | J10: =-SUMIFS(lv!F:F,lv!$B:$B,"7080001") -> 246160 | K10: =-SUMIFS(lv!G:G,lv!$B:$B,"7080001") -> 244350 | L10: =-SUMIFS(lv!H:H,lv!$B:$B,"7080001")-SUMIFS(lv!H:H,lv!$B:$B,"613") -> 244350 | M10: =-SUMIFS(lv!I:I,lv!$B:$B,"7080001")-SUMIFS(lv!I:I,lv!$B:$B,"613") -> 240730 | N10: =-SUMIFS(lv!J:J,lv!$B:$B,"7080001")-SUMIFS(lv!J:J,lv!$B:$B,"613") -> 240730 | O10: =-SUMIFS(lv!K:K,lv!$B:$B,"7080001")-SUMIFS(lv!K:K,lv!$B:$B,"613") -> 240730 | P10: =-SUMIFS(lv!L:L,lv!$B:$B,"7080001")-SUMIFS(lv!L:L,lv!$B:$B,"613") -> 241454 | Q10: 250000 | R10: 250000 | S10: 250000 | T10: =SUM(H10:S10) -> 2940281
C11: Te tjera | H11: =-SUMIFS(lv!D:D,lv!$B:$B,"758") -> 0 | I11: =-SUMIFS(lv!E:E,lv!$B:$B,"758") -> 0 | J11: =-SUMIFS(lv!F:F,lv!$B:$B,"758") -> 0 | K11: =-SUMIFS(lv!G:G,lv!$B:$B,"758") -> 0 | L11: =-SUMIFS(lv!H:H,lv!$B:$B,"758") -> 0 | M11: =-SUMIFS(lv!I:I,lv!$B:$B,"758") -> 0 | N11: =-SUMIFS(lv!J:J,lv!$B:$B,"758") -> 0 | O11: =-SUMIFS(lv!K:K,lv!$B:$B,"758") -> 0 | P11: =-SUMIFS(lv!L:L,lv!$B:$B,"758") -> 0 | Q11: =-SUMIFS(lv!M:M,lv!$B:$B,"758") -> 0 | R11: =-SUMIFS(lv!N:N,lv!$B:$B,"758") -> 0 | S11: =-SUMIFS(lv!O:O,lv!$B:$B,"758") -> 0 | T11: =SUM(H11:S11) -> 0
C12: Te ardhura nga interesat | H12: =-SUMIFS(lv!D:D,lv!$B:$B,"767") -> 0 | I12: =-SUMIFS(lv!E:E,lv!$B:$B,"767") -> 0 | J12: =-SUMIFS(lv!F:F,lv!$B:$B,"767") -> 0 | K12: =-SUMIFS(lv!G:G,lv!$B:$B,"767") -> 0 | L12: =-SUMIFS(lv!H:H,lv!$B:$B,"767") -> 0 | M12: =-SUMIFS(lv!I:I,lv!$B:$B,"767") -> 0 | N12: =-SUMIFS(lv!J:J,lv!$B:$B,"767") -> 0 | O12: =-SUMIFS(lv!K:K,lv!$B:$B,"767") -> 0 | P12: =-SUMIFS(lv!L:L,lv!$B:$B,"767") -> 0 | Q12: =-SUMIFS(lv!M:M,lv!$B:$B,"767") -> 0 | R12: =-SUMIFS(lv!N:N,lv!$B:$B,"767") -> 0 | S12: =-SUMIFS(lv!O:O,lv!$B:$B,"767") -> 0 | T12: =SUM(H12:S12) -> 0
C13: Te ardhura nga kembimet valutore | H13: =-SUMIFS(lv!D:D,lv!$B:$B,"769") -> 0.22 | I13: =-SUMIFS(lv!E:E,lv!$B:$B,"769") -> 0 | J13: =-SUMIFS(lv!F:F,lv!$B:$B,"769") -> 10613.34 | K13: =-SUMIFS(lv!G:G,lv!$B:$B,"769") -> 1008 | L13: =-SUMIFS(lv!H:H,lv!$B:$B,"769") -> 20650 | M13: =-SUMIFS(lv!I:I,lv!$B:$B,"769") -> 22468.2 | N13: =-SUMIFS(lv!J:J,lv!$B:$B,"769") -> 0.32 | O13: =-SUMIFS(lv!K:K,lv!$B:$B,"769") -> 0 | P13: =-SUMIFS(lv!L:L,lv!$B:$B,"769") -> 0 | Q13: =-SUMIFS(lv!M:M,lv!$B:$B,"769") -> 0 | R13: =-SUMIFS(lv!N:N,lv!$B:$B,"769") -> 0 | S13: =-SUMIFS(lv!O:O,lv!$B:$B,"769") -> 0 | T13: =SUM(H13:S13) -> 54740.08
C14: Zbritje ne Blerje | H14: =-SUMIFS(lv!D:D,lv!$B:$B,"791") -> 0 | I14: =-SUMIFS(lv!E:E,lv!$B:$B,"791") -> 0 | J14: =-SUMIFS(lv!F:F,lv!$B:$B,"791") -> 0 | K14: =-SUMIFS(lv!G:G,lv!$B:$B,"791") -> 0 | L14: =-SUMIFS(lv!H:H,lv!$B:$B,"791") -> 0 | M14: =-SUMIFS(lv!I:I,lv!$B:$B,"791") -> 0 | N14: =-SUMIFS(lv!J:J,lv!$B:$B,"791") -> 0 | O14: =-SUMIFS(lv!K:K,lv!$B:$B,"791") -> 0 | P14: =-SUMIFS(lv!L:L,lv!$B:$B,"791") -> 0 | Q14: =-SUMIFS(lv!M:M,lv!$B:$B,"791") -> 0 | R14: =-SUMIFS(lv!N:N,lv!$B:$B,"791") -> 0 | S14: =-SUMIFS(lv!O:O,lv!$B:$B,"791") -> 0 | T14: =SUM(H14:S14) -> 0
C15: Zbritje ne Shitje | H15: =-SUMIFS(lv!D:D,lv!$B:$B,"792") -> 0 | I15: =-SUMIFS(lv!E:E,lv!$B:$B,"792") -> 0 | J15: =-SUMIFS(lv!F:F,lv!$B:$B,"792") -> 0 | K15: =-SUMIFS(lv!G:G,lv!$B:$B,"792") -> 0 | L15: =-SUMIFS(lv!H:H,lv!$B:$B,"792") -> 0 | M15: =-SUMIFS(lv!I:I,lv!$B:$B,"792") -> 0 | N15: =-SUMIFS(lv!J:J,lv!$B:$B,"792") -> 0 | O15: =-SUMIFS(lv!K:K,lv!$B:$B,"792") -> 0 | P15: =-SUMIFS(lv!L:L,lv!$B:$B,"792") -> 0 | Q15: =-SUMIFS(lv!M:M,lv!$B:$B,"792") -> 0 | R15: =-SUMIFS(lv!N:N,lv!$B:$B,"792") -> 0 | S15: =-SUMIFS(lv!O:O,lv!$B:$B,"792") -> 0 | T15: =SUM(H15:S15) -> 0
T16: =+SUM(H16:S16) -> 0
B17: Totali I Te Ardhurave | H17: =SUM(H6:H16) -> 1971669.7 | I17: =SUM(I6:I16) -> 1573633.3 | J17: =SUM(J6:J16) -> 2875648.3 | K17: =SUM(K6:K16) -> 1331388 | L17: =SUM(L6:L16) -> 3435796.7 | M17: =SUM(M6:M16) -> 3012361.5 | N17: =SUM(N6:N16) -> 2914422 | O17: =SUM(O6:O16) -> 3006035 | ... T17: =SUM(T6:T16) -> 30899392
C19: Zbritje | G19: %
C20: Kosto e Mallrave te Shitura | H20: =-SUMIFS(lv!D:D,lv!$B:$B,"6035")-SUMIFS(lv!D:D,lv!$B:$B,"605") -> -1405799.7 | I20: =-SUMIFS(lv!E:E,lv!$B:$B,"6035")-SUMIFS(lv!E:E,lv!$B:$B,"605") -> -1109793.6 | J20: =-SUMIFS(lv!F:F,lv!$B:$B,"6035")-SUMIFS(lv!F:F,lv!$B:$B,"605") -> -2265369.5 | K20: =-SUMIFS(lv!G:G,lv!$B:$B,"6035")-SUMIFS(lv!G:G,lv!$B:$B,"605") -> -912194.73 | L20: =-SUMIFS(lv!H:H,lv!$B:$B,"6035")-SUMIFS(lv!H:H,lv!$B:$B,"605") -> -2775296.9 | M20: =-SUMIFS(lv!I:I,lv!$B:$B,"6035")-SUMIFS(lv!I:I,lv!$B:$B,"605") -> -2426065.3 | N20: =-SUMIFS(lv!J:J,lv!$B:$B,"6035")-SUMIFS(lv!J:J,lv!$B:$B,"605") -> -2208671.8 | O20: =-SUMIFS(lv!K:K,lv!$B:$B,"6035")-SUMIFS(lv!K:K,lv!$B:$B,"605") -> -2261187.5 | P20: =-SUMIFS(lv!L:L,lv!$B:$B,"6035")-SUMIFS(lv!L:L,lv!$B:$B,"605") -> -2252048.9 | Q20: =+Q8*Q21 -> -2125000 | R20: =+R8*R21 -> -2125000 | S20: =+S8*S21 -> -2125000 | T20: =SUM(H20:S20) -> -23991428
D21: Margin | H21: =+H20/H8 -> -0.81531435 | I21: =+I20/I8 -> -0.83488118 | J21: =+J20/J8 -> -0.86501626 | K21: =+K20/K8 -> -0.83993513 | L21: =+L20/L8 -> -0.87526799 | M21: =+M20/M8 -> -0.88247407 | N21: =+N20/N8 -> -0.82607573 | O21: =+O20/O8 -> -0.81769913 | P21: =+P20/P8 -> -0.98472469 | Q21: -0.85 | R21: -0.85 | S21: -0.85
C22: Kosto e Mallrave te Shitura me Zbritje 50% | H22: =+H9*H23 -> 0 | I22: =+I9*I23 -> 0 | J22: =+J9*J23 -> 0 | K22: =+K9*K23 -> 0 | L22: =+L9*L23 -> 0 | M22: =+M9*M23 -> 0 | N22: =+N9*N23 -> 0 | O22: =+O9*O23 -> 0 | P22: =+P9*P21 -> 0 | Q22: =+Q9*Q23 -> 0 | R22: =+R9*R23 -> 0 | S22: =+S9*S21 -> 0 | T22: =SUM(H22:S22) -> 0
D23: Margin
B25: Shpenzimet Operative
C27: Uje,energji elektrike,gaz | T27: =SUM(H27:S27) -> 0 | V27: 2
C28: Shpenzime per Blerje te Pastokueshme | H28: =-SUMIFS(lv!D:D,lv!$B:$B,"608") -> 0 | I28: =-SUMIFS(lv!E:E,lv!$B:$B,"608") -> 0 | J28: =-SUMIFS(lv!F:F,lv!$B:$B,"608") -> 0 | K28: =-SUMIFS(lv!G:G,lv!$B:$B,"608") -> 0 | L28: =-SUMIFS(lv!H:H,lv!$B:$B,"608") -> 0 | M28: =-SUMIFS(lv!I:I,lv!$B:$B,"608") -> 0 | N28: =-SUMIFS(lv!J:J,lv!$B:$B,"608") -> -642.6 | O28: =-SUMIFS(lv!K:K,lv!$B:$B,"608") -> 0 | P28: =-SUMIFS(lv!L:L,lv!$B:$B,"608") -> -11822.5 | T28: =SUM(H28:S28) -> -12465.1 | V28: 2
C29: Utilitete | T29: =SUM(H29:S29) -> 0 | V29: 2
C30: Nentrajtime | H30: =-SUMIFS(lv!D:D,lv!$B:$B,"6110002")-SUMIFS(lv!D:D,lv!$B:$B,"6110004") -> 0 | I30: =-SUMIFS(lv!E:E,lv!$B:$B,"6110002")-SUMIFS(lv!E:E,lv!$B:$B,"6110004") -> 0 | J30: =-SUMIFS(lv!F:F,lv!$B:$B,"6110002")-SUMIFS(lv!F:F,lv!$B:$B,"6110004") -> 0 | K30: =-SUMIFS(lv!G:G,lv!$B:$B,"6110002")-SUMIFS(lv!G:G,lv!$B:$B,"6110004") -> 0 | L30: =-SUMIFS(lv!H:H,lv!$B:$B,"6110002")-SUMIFS(lv!H:H,lv!$B:$B,"6110004") -> 0 | M30: =-SUMIFS(lv!I:I,lv!$B:$B,"6110002")-SUMIFS(lv!I:I,lv!$B:$B,"6110004") -> 0 | N30: =-SUMIFS(lv!J:J,lv!$B:$B,"6110002")-SUMIFS(lv!J:J,lv!$B:$B,"6110004") -> 0 | O30: =-SUMIFS(lv!K:K,lv!$B:$B,"6110002")-SUMIFS(lv!K:K,lv!$B:$B,"6110004") -> 0 | P30: =-SUMIFS(lv!L:L,lv!$B:$B,"6110002")-SUMIFS(lv!L:L,lv!$B:$B,"6110004") -> 0 | Q30: =-SUMIFS(lv!M:M,lv!$B:$B,"6110002")-SUMIFS(lv!M:M,lv!$B:$B,"6110004") -> 0 | R30: =-SUMIFS(lv!N:N,lv!$B:$B,"6110002")-SUMIFS(lv!N:N,lv!$B:$B,"6110004") -> 0 | S30: =-SUMIFS(lv!O:O,lv!$B:$B,"6110002")-SUMIFS(lv!O:O,lv!$B:$B,"6110004") -> 0 | T30: =SUM(H30:S30) -> 0 | V30: 2
C31: Shpenzime Qiraje | H31: -10000 | I31: -10000 | J31: -10000 | K31: -10000 | L31: -10000 | M31: -10000 | N31: -10000 | O31: -10000 | P31: -10000 | Q31: -10000 | R31: -10000 | S31: -10000 | T31: =SUM(H31:S31) -> -120000
C32: Shpenzime Mirembajtje | T32: =SUM(H32:S32) -> 0 | V32: 2
C33: Shpenzime Sigurimi | T33: =SUM(H33:S33) -> 0
C34: Sherbime te Tjera | H34: =-SUMIFS(lv!D:D,lv!$B:$B,"618") -> 0 | I34: =-SUMIFS(lv!E:E,lv!$B:$B,"618") -> 0 | J34: =-SUMIFS(lv!F:F,lv!$B:$B,"618") -> 0 | K34: =-SUMIFS(lv!G:G,lv!$B:$B,"618") -> 0 | L34: =-SUMIFS(lv!H:H,lv!$B:$B,"618") -> 0 | M34: =-SUMIFS(lv!I:I,lv!$B:$B,"618") -> 0 | N34: =-SUMIFS(lv!J:J,lv!$B:$B,"618") -> 0 | O34: =-SUMIFS(lv!K:K,lv!$B:$B,"618") -> 0 | P34: =-SUMIFS(lv!L:L,lv!$B:$B,"618") -> -8800 | Q34: -1000 | R34: -1000 | S34: -1000 | T34: =SUM(H34:S34) -> -11800 | V34: 2
C35: Shpenzime Marketingu | T35: =SUM(H35:S35) -> 0
C36: Shpenzime Udhetimi & Akomodimi | T36: =SUM(H36:S36) -> 0
C37: Shpenzime Komunikimi dhe Postare | H37: =-SUMIFS(lv!D:D,lv!$B:$B,"626")-SUMIFS(lv!D:D,lv!$B:$B,"6260001") -> 0 | I37: =-SUMIFS(lv!E:E,lv!$B:$B,"626")-SUMIFS(lv!E:E,lv!$B:$B,"6260001") -> 0 | J37: =-SUMIFS(lv!F:F,lv!$B:$B,"626")-SUMIFS(lv!F:F,lv!$B:$B,"6260001") -> 0 | K37: =-SUMIFS(lv!G:G,lv!$B:$B,"626")-SUMIFS(lv!G:G,lv!$B:$B,"6260001") -> -40000 | L37: =-SUMIFS(lv!H:H,lv!$B:$B,"626")-SUMIFS(lv!H:H,lv!$B:$B,"6260001") -> 0 | M37: =-SUMIFS(lv!I:I,lv!$B:$B,"626")-SUMIFS(lv!I:I,lv!$B:$B,"6260001") -> 0 | N37: =-SUMIFS(lv!J:J,lv!$B:$B,"626")-SUMIFS(lv!J:J,lv!$B:$B,"6260001") -> 0 | O37: =-SUMIFS(lv!K:K,lv!$B:$B,"626")-SUMIFS(lv!K:K,lv!$B:$B,"6260001") -> 0 | P37: =-SUMIFS(lv!L:L,lv!$B:$B,"626")-SUMIFS(lv!L:L,lv!$B:$B,"6260001") -> -20000 | Q37: -10000 | R37: -10000 | S37: -10000 | T37: =SUM(H37:S37) -> -90000 | V37: 2
C38: Shpenzime Transporti | T38: =SUM(H38:S38) -> 0 | V38: 2
C39: Shpenzime bankare | H39: =-SUMIFS(lv!D:D,lv!$B:$B,"628") -> -1638.67 | I39: =-SUMIFS(lv!E:E,lv!$B:$B,"628") -> -2138.67 | J39: =-SUMIFS(lv!F:F,lv!$B:$B,"628") -> -1918.67 | K39: =-SUMIFS(lv!G:G,lv!$B:$B,"628") -> -1638.67 | L39: =-SUMIFS(lv!H:H,lv!$B:$B,"628") -> -3009.5 | M39: =-SUMIFS(lv!I:I,lv!$B:$B,"628") -> -1032.5 | N39: =-SUMIFS(lv!J:J,lv!$B:$B,"628") -> 0 | O39: =-SUMIFS(lv!K:K,lv!$B:$B,"628") -> 0 | P39: =-SUMIFS(lv!L:L,lv!$B:$B,"628") -> 0 | Q39: -1500 | R39: -1500 | S39: -1500 | T39: =SUM(H39:S39) -> -15876.68
C40: Akcize | T40: =SUM(H40:S40) -> 0
C41: Takse doganore | T41: =SUM(H41:S41) -> 0
C42: Taksa e tarifa vendore | H42: =-SUMIFS(lv!D:D,lv!$B:$B,"634") -> 0 | I42: =-SUMIFS(lv!E:E,lv!$B:$B,"634") -> 0 | J42: =-35120*2 -> -70240 | K42: =-SUMIFS(lv!G:G,lv!$B:$B,"634") -> 0 | L42: =-SUMIFS(lv!H:H,lv!$B:$B,"634") -> 0 | M42: =-SUMIFS(lv!I:I,lv!$B:$B,"634") -> 0 | N42: =-SUMIFS(lv!J:J,lv!$B:$B,"634") -> 0 | O42: =-SUMIFS(lv!K:K,lv!$B:$B,"634") -> 0 | P42: =-SUMIFS(lv!L:L,lv!$B:$B,"634") -> 0 | Q42: =-SUMIFS(lv!M:M,lv!$B:$B,"634") -> 0 | R42: =-SUMIFS(lv!N:N,lv!$B:$B,"634") -> 0 | S42: =-SUMIFS(lv!O:O,lv!$B:$B,"634") -> 0 | T42: =SUM(H42:S42) -> -70240
C43: Te tjera Tatime e Taksa | H43: =-SUMIFS(lv!D:D,lv!$B:$B,"638") -> 0 | I43: =-SUMIFS(lv!E:E,lv!$B:$B,"638") -> 0 | J43: -245000 | K43: =-SUMIFS(lv!G:G,lv!$B:$B,"638") -> 0 | L43: =-SUMIFS(lv!H:H,lv!$B:$B,"638") -> 0 | M43: =-SUMIFS(lv!I:I,lv!$B:$B,"638") -> 0 | N43: =-SUMIFS(lv!J:J,lv!$B:$B,"638") -> 0 | O43: =-SUMIFS(lv!K:K,lv!$B:$B,"638") -> 0 | P43: =-SUMIFS(lv!L:L,lv!$B:$B,"638") -> 0 | Q43: =-SUMIFS(lv!M:M,lv!$B:$B,"638") -> 0 | R43: =-SUMIFS(lv!N:N,lv!$B:$B,"638") -> 0 | S43: =-SUMIFS(lv!O:O,lv!$B:$B,"638") -> 0 | T43: =SUM(H43:S43) -> -245000
C44: Personel paga | H44: =-SUMIFS(lv!D:D,lv!$B:$B,"641") -> -166264 | I44: =-SUMIFS(lv!E:E,lv!$B:$B,"641") -> -166264 | J44: =-SUMIFS(lv!F:F,lv!$B:$B,"641") -> -210303 | K44: =-SUMIFS(lv!G:G,lv!$B:$B,"641") -> -192978 | L44: =-SUMIFS(lv!H:H,lv!$B:$B,"641") -> -200012 | M44: =-SUMIFS(lv!I:I,lv!$B:$B,"641") -> -224224 | N44: =-SUMIFS(lv!J:J,lv!$B:$B,"641") -> -224224 | O44: =-SUMIFS(lv!K:K,lv!$B:$B,"641") -> -224224 | P44: =-SUMIFS(lv!L:L,lv!$B:$B,"641") -> -224224 | Q44: -193000 | R44: -193000 | S44: -193000 | T44: =SUM(H44:S44) -> -2411717
C45: Personel kontribute | H45: =-SUMIFS(lv!D:D,lv!$B:$B,"644") -> -27766 | I45: =-SUMIFS(lv!E:E,lv!$B:$B,"644") -> -27766 | J45: =-SUMIFS(lv!F:F,lv!$B:$B,"644") -> -33416 | K45: =-SUMIFS(lv!G:G,lv!$B:$B,"644") -> -30523 | L45: =-SUMIFS(lv!H:H,lv!$B:$B,"644") -> -32863 | M45: =-SUMIFS(lv!I:I,lv!$B:$B,"644") -> -36907 | N45: =-SUMIFS(lv!J:J,lv!$B:$B,"644") -> -36907 | O45: =-SUMIFS(lv!K:K,lv!$B:$B,"644") -> -36907 | P45: =-SUMIFS(lv!L:L,lv!$B:$B,"644") -> -36907 | Q45: =+Q44*16.7% -> -32231 | R45: =+R44*16.7% -> -32231 | S45: =+S44*16.7% -> -32231 | T45: =SUM(H45:S45) -> -396655
...

Sheet CashFlow
B2: Cash Flow Statement
C4: For the Year Ending | E4: 42735
C5: Cash at Beginning of Period | E5: 875725.36 | F5: =+E41 -> 1637423.3 | G5: =+F41 -> -1361319.4 | H5: =+G41 -> -4409185.7 | I5: =+H41 -> -8114546.8 | J5: =+I41 -> -13149206 | K5: =+J41 -> -14708494 | L5: =+K41 -> -13737480 | M5: =+L41 -> -15354615 | ... P5: =+O41 -> -15418465
B7: Operations | E7: 42736 | F7: 42767 | G7: 42795 | H7: 42826 | I7: 42856 | J7: 42887 | K7: 42917 | L7: 42948 | M7: 42979 | N7: 43009 | O7: 43040 | P7: 43070
B8: Cash receipts from customers | E8: =+'P&L'!H17*1.2 -> 2366003.7 | F8: =+'P&L'!I17*1.2 -> 1888360 | G8: =+'P&L'!J17*1.2 -> 3450778 | H8: =+'P&L'!K17*1.2 -> 1597665.6 | I8: =+'P&L'!L17*1.2 -> 4122956 | J8: =+'P&L'!M17*1.2 -> 3614833.8 | K8: =+'P&L'!N17*1.2 -> 3497306.4 | L8: =+'P&L'!O17*1.2 -> 3607242 | ... P8: =+'P&L'!S17*1.2 -> 3300000
B9: Cash paid for
C10: Inventory purchases | E10: =-Inventories!E9*1.2 -> -1016997 | F10: =-Inventories!F9*1.2 -> -1307632.2 | G10: =-Inventories!G9*1.2 -> -2564446.4 | H10: =-Inventories!H9*1.2 -> -4551770.4 | I10: =-Inventories!I9*1.2 -> -5461545.3 | J10: =-Inventories!J9*1.2 -> -1434068 | K10: =-Inventories!K9*1.2 -> -1838742 | L10: =-Inventories!L9*1.2 -> -1537468.4 | ... P10: =-Inventories!P9*1.2 -> -1800000
C11: General operating and administrative expenses | E11: =+'P&L'!H53-'P&L'!H44-'P&L'!H45-'P&L'!H50 -> -56919.8 | F11: =+'P&L'!I53-'P&L'!I44-'P&L'!I45-'P&L'!I50 -> -49081.42 | G11: =+'P&L'!J53-'P&L'!J44-'P&L'!J45-'P&L'!J50 -> -354119.92 | H11: =+'P&L'!K53-'P&L'!K44-'P&L'!K45-'P&L'!K50 -> -111978.27 | I11: =+'P&L'!L53-'P&L'!L44-'P&L'!L45-'P&L'!L50 -> -47418.3 | J11: =+'P&L'!M53-'P&L'!M44-'P&L'!M45-'P&L'!M50 -> -63145.75 | K11: =+'P&L'!N53-'P&L'!N44-'P&L'!N45-'P&L'!N50 -> -10642.6 | L11: =+'P&L'!O53-'P&L'!O44-'P&L'!O45-'P&L'!O50 -> -10000 | ... P11: =+'P&L'!S53-'P&L'!S44-'P&L'!S45-'P&L'!S50 -> -137830
C12: Wage expenses | E12: =+'P&L'!H44+'P&L'!H45 -> -194030 | F12: =+'P&L'!I44+'P&L'!I45 -> -194030 | G12: =+'P&L'!J44+'P&L'!J45 -> -243719 | H12: =+'P&L'!K44+'P&L'!K45 -> -223501 | I12: =+'P&L'!L44+'P&L'!L45 -> -232875 | J12: =+'P&L'!M44+'P&L'!M45 -> -261131 | K12: =+'P&L'!N44+'P&L'!N45 -> -261131 | L12: =+'P&L'!O44+'P&L'!O45 -> -261131 | ... P12: =+'P&L'!S44+'P&L'!S45 -> -225231
C13: Interest
C14: Income taxes | E14: -36359 | F14: -36359 | G14: -36359 | H14: -115777 | I14: -115777 | J14: -115777 | K14: -115777 | L14: -115777 | M14: -115777 | N14: -115777 | O14: -115777 | P14: -115777
B15: Net Cash Flow from Operations | E15: =SUM(E8:E14) -> 1061697.9 | F15: =SUM(F8:F14) -> 301257.34 | G15: =SUM(G8:G14) -> 252133.71 | H15: =SUM(H8:H14) -> -3405361.1 | I15: =SUM(I8:I14) -> -1734659.5 | J15: =SUM(J8:J14) -> 1740712.1 | K15: =SUM(K8:K14) -> 1271013.8 | L15: =SUM(L8:L14) -> 1682865.6 | ... P15: =SUM(P8:P14) -> 1021162
A17: [42] | B17: Investing Activities
B18: Cash receipts from
C19: Sale of property and equipment | E19: 0.001 | R19: 2
C20: Collection of principal on loans
C21: Sale of investment securities | E21: 0.001
B22: Cash paid for
C23: Purchase of property and equipment | E23: -0.001 | R23: 2
C24: Making loans to other entities
C25: Purchase of investment securities
B26: Net Cash Flow from Investing Activities | E26: =SUM(E18:E25) -> 0.001 | F26: =SUM(F18:F25) -> 0 | G26: =SUM(G18:G25) -> 0 | H26: =SUM(H18:H25) -> 0 | I26: =SUM(I18:I25) -> 0 | J26: =SUM(J18:J25) -> 0 | K26: =SUM(K18:K25) -> 0 | L26: =SUM(L18:L25) -> 0 | ... P26: =SUM(P18:P25) -> 0
B27: [42]
B28: Financing Activities
B29: Cash receipts from
C30: Issuance of stock | E30: 0.001
C31: Clients
C32: Borrowing
B33: Cash paid for
C34: Suppliers | E34: -0.001
C35: Repayment of loans | E35: -300000 | F35: -300000 | G35: -300000 | H35: -300000 | I35: -300000 | J35: -300000 | K35: -300000 | L35: -300000 | M35: -300000 | N35: -300000 | O35: -300000 | P35: -300000
C36: Dividends | F36: -3000000 | G36: -3000000 | I36: -3000000 | J36: -3000000 | L36: -3000000 | O36: -2500000 | P36: -900000
B37: Net Cash Flow from Financing Activities | E37: =SUM(E29:E36) -> -300000 | F37: =SUM(F29:F36) -> -3300000 | G37: =SUM(G29:G36) -> -3300000 | H37: =SUM(H29:H36) -> -300000 | I37: =SUM(I29:I36) -> -3300000 | J37: =SUM(J29:J36) -> -3300000 | K37: =SUM(K29:K36) -> -300000 | L37: =SUM(L29:L36) -> -3300000 | ... P37: =SUM(P29:P36) -> -1200000
B39: Net Increase in Cash | E39: =E15+E26+E37 -> 761697.9 | F39: =F15+F26+F37 -> -2998742.7 | G39: =G15+G26+G37 -> -3047866.3 | H39: =H15+H26+H37 -> -3705361.1 | I39: =I15+I26+I37 -> -5034659.5 | J39: =J15+J26+J37 -> -1559287.9 | K39: =K15+K26+K37 -> 971013.81 | L39: =L15+L26+L37 -> -1617134.4 | ... P39: =P15+P26+P37 -> -178838
C41: Cash at End of Period | E41: =E5+E39 -> 1637423.3 | F41: =F5+F39 -> -1361319.4 | G41: =G5+G39 -> -4409185.7 | H41: =H5+H39 -> -8114546.8 | I41: =I5+I39 -> -13149206 | J41: =J5+J39 -> -14708494 | K41: =K5+K39 -> -13737480 | L41: =L5+L39 -> -15354615 | ... P41: =P5+P39 -> -15597303
B42: {42}
B43: (Financim) / Terheqje | E43: =+IF(E41<0,E41,"NO") -> NO | F43: =+IF(F41<0,F41,"NO") -> -1361319.4 | G43: =+IF(G41<0,G41,"NO") -> -4409185.7 | H43: =+IF(H41<0,H41,"NO") -> -8114546.8 | I43: =+IF(I41<0,I41,"NO") -> -13149206 | J43: =+IF(J41<0,J41,"NO") -> -14708494 | K43: =+IF(K41<0,K41,"NO") -> -13737480 | L43: =+IF(L41<0,L41,"NO") -> -15354615 | ... O43: =+IF(O41<0,O41,"NO") -> -15418465 | P43: =+P41 -> -15597303
C45: Ortake | D45: BoP | E45: -6918587
E46: =-E32-E36 -> 0 | F46: =-F32-F36 -> 3000000 | G46: =-G32-G36 -> 3000000 | H46: =-H32-H36 -> 0 | I46: =-I32-I36 -> 3000000 | J46: =-J32-J36 -> 3000000 | K46: =-K32-K36 -> 0 | L46: =-L32-L36 -> 3000000 | ... P46: =-P32-P36 -> 900000 | R46: ortaku kalon me terhejqe ne llogari (divident)
D47: EoP | P47: =+E45+SUM(E46:P46) -> 11481413
...

Sheet Inventories
B2: Inventories
B3: In LEK | R3: VAT code
C4: For the Year Ending | E4: 42735
C5: Inventories at Beginning of Period | E5: 3497001.8 | F5: =+E13 -> 2938699.7 | G5: =+F13 -> 2918599.6 | H5: =+G13 -> 2790268.7 | I5: =+H13 -> 5671216 | J5: =+I13 -> 7447206.9 | K5: =+J13 -> 6216198.2 | L5: =+K13 -> 5539811.4 | M5: =+L13 -> 4559847.6 | ... P5: =+O13 -> 2151772.1
B7: Inventories | E7: 42736 | F7: 42767 | G7: 42795 | H7: 42826 | I7: 42856 | J7: 42887 | K7: 42917 | L7: 42948 | M7: 42979 | N7: 43009 | O7: 43040 | P7: 43070
C8: Beginning inventory
C9: Purchases | E9: =+lv!D32 -> 847497.49 | F9: =+lv!E32 -> 1089693.5 | G9: =+lv!F32 -> 2137038.6 | H9: =+lv!G32 -> 3793142 | I9: =+lv!H32 -> 4551287.7 | J9: =+lv!I32 -> 1195056.7 | K9: =+lv!J32 -> 1532285 | L9: =+lv!K32 -> 1281223.6 | M9: =+lv!L32 -> 1093973.3 | N9: 1500000 | O9: 1500000 | P9: 1500000 | R9: 2
C10: Freight
C11: Direct labor | E11: =+'P&L'!H20+'P&L'!H22 -> -1405799.7 | F11: =+'P&L'!I20+'P&L'!I22 -> -1109793.6 | G11: =+'P&L'!J20+'P&L'!J22 -> -2265369.5 | H11: =+'P&L'!K20+'P&L'!K22 -> -912194.73 | I11: =+'P&L'!L20+'P&L'!L22 -> -2775296.9 | J11: =+'P&L'!M20+'P&L'!M22 -> -2426065.3 | K11: =+'P&L'!N20+'P&L'!N22 -> -2208671.8 | L11: =+'P&L'!O20+'P&L'!O22 -> -2261187.5 | ... P11: =+'P&L'!S20+'P&L'!S22 -> -2125000
C12: Indirect expenses
B13: Inventories at End of Period | E13: =+E5+SUM(E8:E12) -> 2938699.7 | F13: =+F5+SUM(F8:F12) -> 2918599.6 | G13: =+G5+SUM(G8:G12) -> 2790268.7 | H13: =+H5+SUM(H8:H12) -> 5671216 | I13: =+I5+SUM(I8:I12) -> 7447206.9 | J13: =+J5+SUM(J8:J12) -> 6216198.2 | K13: =+K5+SUM(K8:K12) -> 5539811.4 | L13: =+L5+SUM(L8:L12) -> 4559847.6 | ... P13: =+P5+SUM(P8:P12) -> 1526772.1
B19: In EUR
C20: For the Year Ending | E20: =+E4 -> 42735
C21: Inventories at Beginning of Period | E21: =+E5/140 -> 24978.585 | F21: =+E29 -> 20990.712 | G21: =+F29 -> 20847.14 | H21: =+G29 -> 19930.491 | I21: =+H29 -> 40508.686 | J21: =+I29 -> 53194.335 | K21: =+J29 -> 44401.416 | L21: =+K29 -> 39570.082 | M21: =+L29 -> 32570.34 | ... P21: =+O29 -> 15369.8
B23: Inventories | E23: =+E7 -> 42736 | F23: =+F7 -> 42767 | G23: =+G7 -> 42795 | H23: =+H7 -> 42826 | I23: =+I7 -> 42856 | J23: =+J7 -> 42887 | K23: =+K7 -> 42917 | L23: =+L7 -> 42948 | ... P23: =+P7 -> 43070
C24: Beginning inventory
C25: Purchases | E25: =+E9/140 -> 6053.5535 | F25: =+F9/140 -> 7783.5251 | G25: =+G9/140 -> 15264.562 | H25: =+H9/140 -> 27093.872 | I25: =+I9/140 -> 32509.198 | J25: =+J9/140 -> 8536.119 | K25: =+K9/140 -> 10944.893 | L25: =+L9/140 -> 9151.5975 | ... P25: =+P9/140 -> 10714.286
C26: Freight
C27: Direct labor | E27: =+E11/140 -> -10041.426 | F27: =+F11/140 -> -7927.0973 | G27: =+G11/140 -> -16181.21 | H27: =+H11/140 -> -6515.6767 | I27: =+I11/140 -> -19823.549 | J27: =+J11/140 -> -17329.038 | K27: =+K11/140 -> -15776.227 | L27: =+L11/140 -> -16151.339 | ... P27: =+P11/140 -> -15178.571
C28: Indirect expenses
B29: Inventories at End of Period | E29: =+E21+SUM(E24:E28) -> 20990.712 | F29: =+F21+SUM(F24:F28) -> 20847.14 | G29: =+G21+SUM(G24:G28) -> 19930.491 | H29: =+H21+SUM(H24:H28) -> 40508.686 | I29: =+I21+SUM(I24:I28) -> 53194.335 | J29: =+J21+SUM(J24:J28) -> 44401.416 | K29: =+K21+SUM(K24:K28) -> 39570.082 | L29: =+L21+SUM(L24:L28) -> 32570.34 | ... P29: =+P21+SUM(P24:P28) -> 10905.515

Sheet VAT
B2: VAT
C4: For the Year Ending | E4: 42735
C5: VAT at Beginning of Period | E5: 11271.62 | F5: =+IF(E14>0,E14,0) -> 0 | G5: =+IF(F14>0,F14,0) -> 0 | H5: =+IF(G14>0,G14,0) -> 0 | I5: =+IF(H14>0,H14,0) -> 549220.81 | J5: =+IF(I14>0,I14,0) -> 821189.01 | K5: =+IF(J14>0,J14,0) -> 510915.05 | L5: =+IF(K14>0,K14,0) -> 282762.16 | M5: =+IF(L14>0,L14,0) -> 0 | ... P5: =+IF(O14>0,O14,0) -> 0
B7: Inventories | E7: 42736 | F7: 42767 | G7: 42795 | H7: 42826 | I7: 42856 | J7: 42887 | K7: 42917 | L7: 42948 | M7: 42979 | N7: 43009 | O7: 43040 | P7: 43070
C8: Purchases | E8: =-('P&L'!H27+'P&L'!H28+'P&L'!H29+'P&L'!H30+'P&L'!H37)*0.2 -> 0 | F8: =-('P&L'!I27+'P&L'!I28+'P&L'!I29+'P&L'!I30+'P&L'!I37)*0.2 -> 0 | G8: =-('P&L'!J27+'P&L'!J28+'P&L'!J29+'P&L'!J30+'P&L'!J37)*0.2 -> 0 | H8: =-('P&L'!K27+'P&L'!K28+'P&L'!K29+'P&L'!K30+'P&L'!K37)*0.2 -> 8000 | I8: =-('P&L'!L27+'P&L'!L28+'P&L'!L29+'P&L'!L30+'P&L'!L37)*0.2 -> 0 | J8: =-('P&L'!M27+'P&L'!M28+'P&L'!M29+'P&L'!M30+'P&L'!M37)*0.2 -> 0 | K8: =-('P&L'!N27+'P&L'!N28+'P&L'!N29+'P&L'!N30+'P&L'!N37)*0.2 -> 128.52 | L8: =-('P&L'!O27+'P&L'!O28+'P&L'!O29+'P&L'!O30+'P&L'!O37)*0.2 -> 0 | ... P8: =-('P&L'!S27+'P&L'!S28+'P&L'!S29+'P&L'!S30+'P&L'!S37)*0.2 -> 2000
C9: Inventories | E9: =+Inventories!E9*0.2 -> 169499.5 | F9: =+Inventories!F9*0.2 -> 217938.7 | G9: =+Inventories!G9*0.2 -> 427407.73 | H9: =+Inventories!H9*0.2 -> 758628.41 | I9: =+Inventories!I9*0.2 -> 910257.54 | J9: =+Inventories!J9*0.2 -> 239011.33 | K9: =+Inventories!K9*0.2 -> 306457 | L9: =+Inventories!L9*0.2 -> 256244.73 | ... P9: =+Inventories!P9*0.2 -> 300000
C10: Other | E10: 59080 | F10: 38365 | J10: 5041
C12: Sales | E12: =(-'P&L'!H17+'P&L'!H10)*20% -> -344848.55 | F12: =(-'P&L'!I17+'P&L'!I10)*20% -> -265856.66 | G12: =(-'P&L'!J17+'P&L'!J10)*20% -> -525897.67 | H12: =(-'P&L'!K17+'P&L'!K10)*20% -> -217407.6 | I12: =(-'P&L'!L17+'P&L'!L10)*20% -> -638289.34 | J12: =(-'P&L'!M17+'P&L'!M10)*20% -> -554326.3 | K12: =(-'P&L'!N17+'P&L'!N10)*20% -> -534738.4 | L12: =(-'P&L'!O17+'P&L'!O10)*20% -> -553060.99 | ... P12: =(-'P&L'!S17+'P&L'!S10)*20% -> -500000
C13: Other
B14: VAT at End of Period | E14: =+E5+SUM(E8:E13) -> -104997.43 | F14: =+F5+SUM(F8:F13) -> -9552.96 | G14: =+G5+SUM(G8:G13) -> -98489.938 | H14: =+H5+SUM(H8:H13) -> 549220.81 | I14: =+I5+SUM(I8:I13) -> 821189.01 | J14: =+J5+SUM(J8:J13) -> 510915.05 | K14: =+K5+SUM(K8:K13) -> 282762.16 | L14: =+L5+SUM(L8:L13) -> -14054.1 | ... P14: =+P5+SUM(P8:P13) -> -198000
B16: Pagese TVSH | E16: =+IF(E14<0,E14,"NO") -> -104997.43 | F16: =+IF(F14<0,F14,"NO") -> -9552.96 | G16: =+IF(G14<0,G14,"NO") -> -98489.938 | H16: =+IF(H14<0,H14,"NO") -> NO | I16: =+IF(I14<0,I14,"NO") -> NO | J16: =+IF(J14<0,J14,"NO") -> NO | K16: =+IF(K14<0,K14,"NO") -> NO | L16: =+IF(L14<0,L14,"NO") -> -14054.1 | ... P16: =+IF(P14<0,P14,"NO") -> -198000
B18: Pagese TVSH vjetore | E18: =-SUM(E16:P16) -> 1053331.9
B20: Te ardhurat neto vjetore | E20: =+'P&L'!T17 -> 30899392
B22: TVSH pagese marxh | E22: =+E18/E20 -> 0.034089083

Sheet dividenti
AB1: 0.1 | AC1: 0.05
A2: nr.rn. | B2: subjekti | C2: nipt | D2: forma | E2: tatimi | G2: vendimi i asambese se ortakeve | H2: pf te skanuara | I2: depozitimi ne tatime | J2: depozitimi ne qkr | K2: e-albania individ | L2: pass | M2: e-albania biznes | N2: pass | P2: shenime | R2: 2009 | S2: 2010 | T2: 2011 | U2: 2012 | V2: 2013 | W2: 2014 | X2: 2015 | Y2: 2016 | Z2: tot | AB2: rezerva ligjore | AC2: rezerva statutore | AD2: investime afatgjata | AE2: divident | AF2: kapitali themeltar | AG2: rritje kapitali | AH2: aam | AI2: tatim
A3: 19 | B3: VELLEZERIT PICARI | C3: K91804013E | D3: shpk | E3: tatim fitimi | G3: OK | H3: OK | I3: OK | J3: OK | K3: H60605168H | L3: Circle99 | M3: K91804013E | N3: Circle99 | T3: 1187647.3 | U3: -2077087.2 | V3: -458922 | W3: 129297.54 | X3: 354149.8 | Y3: 5716423.2 | Z3: =SUM(R3:Y3) -> 4851508.6 | AE3: 0 | AF3: 100000 | AH3: 13959019 | AI3: 0

Sheet lv
A1: PERSHKRIMLLOG1 | B1: LLOGARIPK | C1: PERSHKRIMPK | D1: M01 | E1: M02 | F1: M03 | G1: M04 | H1: M05 | I1: M06 | J1: M07 | K1: M08 | L1: M09 | M1: M10 | N1: M11 | O1: M12
B2: 2188 | C2: Te tjera | D2: 0 | E2: 0 | F2: 0 | G2: 0 | H2: 0 | I2: 0 | J2: 39712.67 | K2: 0 | L2: 0 | M2: 0 | N2: 0 | O2: 0
B3: 351 | C3: Mallra grupi I | D3: -558302.18 | E3: -20100.108 | F3: -128330.82 | G3: 2880947.3 | H3: 1775990.9 | I3: -1231008.7 | J3: -676386.81 | K3: -979963.81 | L3: -1158075.6 | M3: 0 | N3: 0 | O3: 0
B4: 401 | C4: Furnitore per mallra , produkte e sherbime | D4: -557218.87 | E4: -199800.94 | F4: 1207696.6 | G4: -3236766 | H4: 2956404.3 | I4: -685328.95 | J4: -1287258 | K4: -708118 | L4: -922362 | M4: 0 | N4: 0 | O4: 0
B5: 411 | C5: Kliente per mallra , produkte e sherbime | D5: 612087 | E5: 303806 | F5: -745397.48 | G5: 259350 | H5: 205350 | I5: -5461663.8 | J5: 1085930 | K5: 1244330 | L5: 1373054 | M5: 0 | N5: 0 | O5: 0
B6: 421 | C6: Paga e shperblime | D6: -147642 | E6: -2 | F6: -38360 | G6: -170616 | H6: -5385 | I6: -21502 | J6: -197502 | K6: -197502 | L6: -197502 | M6: 0 | N6: 0 | O6: 0
B7: 431 | C7: Sigurime shoqerore dhe shendetsore | D7: 0 | E7: 0 | F7: -9506 | G7: 4834 | H7: -3861 | I7: -6755 | J7: -61678 | K7: -61678 | L7: -61678 | M7: 0 | N7: 0 | O7: 0
B8: 442 | C8: Tatim mbi te ardhurat e personale | D8: 0 | E8: 0 | F8: -1825 | G8: 0 | H8: -127 | I8: 0 | J8: -1951 | K8: -1951 | L8: -1951 | M8: 0 | N8: 0 | O8: 0
B9: 444 | C9: Tatim mbi fitimin | D9: 0 | E9: 74015 | F9: 0 | G9: 0 | H9: 0 | I9: 249154 | J9: 0 | K9: 0 | L9: 0 | M9: 0 | N9: 0 | O9: 0
B10: 4453 | C10: Shteti-TVSH per tu paguar | D10: 0 | E10: 17435 | F10: 0 | G10: 0 | H10: 0 | I10: 0 | J10: 0 | K10: 0 | L10: 0 | M10: 0 | N10: 0 | O10: 0
B11: 4455 | C11: TVSH e zbriteshme | D11: 136299.51 | E11: 161222.67 | F11: 224809.36 | G11: 670918.97 | H11: 647960.28 | I11: 225781.34 | J11: 272608.05 | K11: 170396.35 | L11: 216261.17 | M11: 0 | N11: 0 | O11: 0
B12: 4456 | C12: Shteti-TVSH e zbritshme | D12: -252568.48 | E12: -170756.68 | F12: -233175.01 | G12: -184406.02 | H12: -532759.3 | I12: -438632.7 | J12: -442338.31 | K12: -553061.03 | L12: -376196.72 | M12: 0 | N12: 0 | O12: 0
B13: 4457 | C13: Shteti-TVSH e pagueshme | D13: 0 | E13: 105565 | F13: 9533 | G13: 0 | H13: 7467 | I13: 0 | J13: 0 | K13: 0 | L13: 0 | M13: 0 | N13: 0 | O13: 0
... B44: 769 | C44: Fitim nga kembimet valutore | D44: -0.22 | E44: 0 | F44: -10613.34 | G44: -1008 | H44: -20650 | I44: -22468.2 | J44: -0.32 | K44: 0 | L44: 0 | M44: 0 | N44: 0 | O44: 0
C46: shpenzimet | D46: =-SUM(D31:D41) -> -1646749.5 | E46: =-SUM(E31:E41) -> -1342905 | F46: =-SUM(F31:F41) -> -2537968.4 | G46: =-SUM(G31:G41) -> -1237674 | H46: =-SUM(H31:H41) -> -3045590.2 | I46: =-SUM(I31:I41) -> -2740342.1 | J46: =-SUM(J31:J41) -> -2470445.4 | K46: =-SUM(K31:K41) -> -2522318.5 | L46: =-SUM(L31:L41) -> -2553802.4
C47: shp P&L | D47: =+'P&L'!H20+'P&L'!H53 -> -1726549.5 | E47: =+'P&L'!I20+'P&L'!I53 -> -1422705 | F47: =+'P&L'!J20+'P&L'!J53 -> -2933008.4 | G47: =+'P&L'!K20+'P&L'!K53 -> -1317474 | H47: =+'P&L'!L20+'P&L'!L53 -> -3125390.2 | I47: =+'P&L'!M20+'P&L'!M53 -> -2820142.1 | J47: =+'P&L'!N20+'P&L'!N53 -> -2550245.4 | K47: =+'P&L'!O20+'P&L'!O53 -> -2602118.5 | L47: =+'P&L'!P20+'P&L'!P53 -> -2633602.4
C48: ndryshimi | D48: =+D46-D47 -> 79800 | E48: =+E46-E47 -> 79800 | F48: =+F46-F47 -> 395040 | G48: =+G46-G47 -> 79800 | H48: =+H46-H47 -> 79800 | I48: =+I46-I47 -> 79800 | J48: =+J46-J47 -> 79800 | K48: =+K46-K47 -> 79800 | L48: =+L46-L47 -> 79800
C50: te ardhurat | D50: =-SUM(D42:D44) -> 1971669.7 | E50: =-SUM(E42:E44) -> 1573633.3 | F50: =-SUM(F42:F44) -> 2875648.3 | G50: =-SUM(G42:G44) -> 1331388 | H50: =-SUM(H42:H44) -> 3435796.7 | I50: =-SUM(I42:I44) -> 3012361.5 | J50: =-SUM(J42:J44) -> 2914422 | K50: =-SUM(K42:K44) -> 3006035 | L50: =-SUM(L42:L44) -> 2528437.3
C51: te ardh P&L | D51: =+'P&L'!H17 -> 1971669.7 | E51: =+'P&L'!I17 -> 1573633.3 | F51: =+'P&L'!J17 -> 2875648.3 | G51: =+'P&L'!K17 -> 1331388 | H51: =+'P&L'!L17 -> 3435796.7 | I51: =+'P&L'!M17 -> 3012361.5 | J51: =+'P&L'!N17 -> 2914422 | K51: =+'P&L'!O17 -> 3006035 | L51: =+'P&L'!P17 -> 2528437.3
C52: ndryshimi | D52: =+D50-D51 -> 0 | E52: =+E50-E51 -> 0 | F52: =+F50-F51 -> 0 | G52: =+G50-G51 -> 0 | H52: =+H50-H51 -> 0 | I52: =+I50-I51 -> 0 | J52: =+J50-J51 -> 0 | K52: =+K50-K51 -> 0 | L52: =+L50-L51 -> 0
